Workbook
Name Status: Lookup!$I$3:$I$9

Sheet TestSuite
A1: Test Conditions
A2: Instructions: 1. For each test run, select the test environment values from the dropdowns provided for each columns on the top of each column, against each of the configurable items like software Release#, OS, Language, System Hardware etc 2. Indicate the test results by selecting the status values (Pass, Fail[Critical], Fail[High], Fail[Medium], Fail[Low] , NT, NA) from the drop-downs provided for each result cell 3. For Failed cases, put in the comments in the respective comments block provided build wise or Release wise against each case. (Do not insert comments on the cells) 4. Provide the DefectTracker ID against each failed case in the space provided for each build. 5. To add more columns, insert a new column before the last shaded column which will automatically get populated with all drop-downs 6. After adding each build 'n', add a defined area 'Result' which should be pointing to the build's overall Result column. | F2: Build#/Release# | H2: Build_06 [Production_v1.4.40(211)] | O2: Build_05 [Staging_v1.4.39(209)] | V2: Build_05 [Staging_v1.4.38(207)] | AC2: Build_04 [Prod_v1.4.38(207)] | AJ2: Build_03 [Staging_v1.4.37(206)] | AQ2: Build_02 [v1.4.37(206)] | AX2: Build_01 [v1.4.33(202)]
F3: Tested/Reviewed By | AQ3: Sudeep VR | AR3: Sudeep VR | AX3: Sudeep VR | AY3: Sudeep VR
F4: Date | H4: 44742 | I4: 44742 | O4: 44737 | V4: 44724 | AC4: 44724 | AJ4: 44712 | AQ4: 44707 | AR4: 44707
F5: Effort Spent in Hours | AQ5: 1.5hr | AR5: 1.5hr
F6: Device | H6: One Plus Nord CE, 5G | I6: iPhone 8 | O6: One Plus Nord CE, 5G | V6: One Plus Nord CE, 5G | AC6: One Plus Nord CE, 5G | AJ6: One Plus Nord CE, 5G
F7: OS | H7: Android 11 | I7: iOS 15.4 | O7: Android 11 | V7: Android 11 | AC7: Android 11 | AJ7: Android 11 | AQ7: Android 11 | AR7: iOS 15.4 | AX7: Android 11 | AY7: iOS 15.4
F8: Language | H8: English | I8: English | O8: English | V8: English | AC8: English | AJ8: English | AQ8: English | AR8: English | AX8: English | AY8: English
F9: System Hardware | AQ9: One Plus Nord CE 5G | AR9: iPhone 7 | AX9: One Plus Nord CE 5G | AY9: iPhone 7
F10: IO_Connection
F11: Firmware
F12: Application/ Version | AQ12: v1.4.37(206) | AR12: v1.4.37(206) | AX12: Beta 1.4.33 | AY12: v1.4.33(202)
F13: Total cases | H13: =ROWS(A23:A324) -> 302 | I13: =ROWS(A23:A324) -> 302 | J13: =ROWS(#REF!) -> #REF! | K13: Overall Pass | L13: =COUNTIF(L23:L324,Lookup!I2) -> 277 | M13: =L13/(COUNTA(L23:L324)) -> 0.91721854 | O13: =ROWS(#REF!) -> #REF! | P13: =ROWS(#REF!) -> #REF! | Q13: =ROWS(#REF!) -> #REF! | R13: Overall Pass | S13: =COUNTIF(S23:S324,#REF!) -> 0 | T13: =S13/(COUNTA(S23:S324)) -> 0 | V13: =ROWS(A23:A324) -> 302 | W13: =ROWS(#REF!) -> #REF! | X13: =ROWS(#REF!) -> #REF! | Y13: Overall Pass | Z13: =COUNTIF(Z23:Z324,#REF!) -> 0 | AA13: =Z13/(COUNTA(Z23:Z324)) -> 0 | AC13: =ROWS(A23:A324) -> 302 | AD13: =ROWS(#REF!) -> #REF! | AE13: =ROWS(#REF!) -> #REF! | AF13: Overall Pass | AG13: =COUNTIF(AG23:AG324,Lookup!B2) -> 0 | AH13: =AG13/(COUNTA(AG23:AG324)) -> 0 | AJ13: =ROWS(A23:A324) -> 302 | AK13: =ROWS(#REF!) -> #REF! | AL13: =ROWS(#REF!) -> #REF! | AM13: Overall Pass | AN13: =COUNTIF(AN23:AN324,Lookup!I2) -> 255 | AO13: =AN13/(COUNTA(AN23:AN324)) -> 0.88235294 | AQ13: =ROWS(A23:A324) -> 302 | AR13: =ROWS(A23:A324) -> 302 | AS13: =ROWS(#REF!) -> #REF! | AT13: Overall Pass | AU13: =COUNTIF(AU23:AU324,Lookup!I2) -> 245 | AV13: =AU13/(COUNTA(AU23:AU324)) -> 0.8974359 | AX13: =ROWS(A23:A324) -> 302 | AY13: =ROWS(B23:B324) -> 302 | AZ13: =ROWS(C23:C324) -> 302 | BA13: Overall Pass | BB13: =COUNTIF(BB23:BB324,Lookup!I2) -> 234 | BC13: =BB13/(COUNTA(BB23:BB324)) -> 0.85714286
F14: Total cases Run | H14: =COUNTA(H23:H324) -> 302 | I14: =COUNTA(I23:I324) -> 302 | J14: =COUNTA(J23:J324) -> 0 | K14: Overall Fail | L14: =COUNTIF(L23:L325,Lookup!I3)+COUNTIF(L23:L325,Lookup!I4)+COUNTIF(L23:L325,Lookup!I5)+COUNTIF(L23:L325,Lookup!I6) -> 21 | M14: =L14/COUNTA(L23:L324) -> 0.069536424 | O14: =COUNTA(O23:O324) -> 289 | P14: =COUNTA(P23:P324) -> 0 | Q14: =COUNTA(Q23:Q324) -> 0 | R14: Overall Fail | S14: =COUNTIF(S23:S325,#REF!)+COUNTIF(S23:S325,#REF!)+COUNTIF(S23:S325,#REF!)+COUNTIF(S23:S325,#REF!) -> 0 | T14: =S14/COUNTA(S23:S324) -> 0 | V14: =COUNTA(V23:V324) -> 289 | W14: =COUNTA(W23:W324) -> 0 | X14: =COUNTA(X23:X324) -> 0 | Y14: Overall Fail | Z14: =COUNTIF(Z23:Z325,#REF!)+COUNTIF(Z23:Z325,#REF!)+COUNTIF(Z23:Z325,#REF!)+COUNTIF(Z23:Z325,#REF!) -> 0 | AA14: =Z14/COUNTA(Z23:Z324) -> 0 | AC14: =COUNTA(AC23:AC324) -> 288 | AD14: =COUNTA(AD23:AD324) -> 0 | AE14: =COUNTA(AE23:AE324) -> 0 | AF14: Overall Fail | AG14: =COUNTIF(AG23:AG325,Lookup!B3)+COUNTIF(AG23:AG325,Lookup!B4)+COUNTIF(AG23:AG325,Lookup!B5)+COUNTIF(AG23:AG325,Lookup!B6) -> 0 | AH14: =AG14/COUNTA(AG23:AG324) -> 0 | AJ14: =COUNTA(AJ23:AJ324) -> 289 | AK14: =COUNTA(AK23:AK324) -> 0 | AL14: =COUNTA(AL23:AL324) -> 0 | AM14: Overall Fail | AN14: =COUNTIF(AN23:AN325,Lookup!I3)+COUNTIF(AN23:AN325,Lookup!I4)+COUNTIF(AN23:AN325,Lookup!I5)+COUNTIF(AN23:AN325,Lookup!I6) -> 32 | AO14: =AN14/COUNTA(AN23:AN324) -> 0.11072664 | AQ14: =COUNTA(AQ23:AQ324) -> 274 | AR14: =COUNTA(AR23:AR324) -> 273 | AS14: =COUNTA(AS23:AS324) -> 0 | AT14: Overall Fail | AU14: =COUNTIF(AU23:AU325,Lookup!I3)+COUNTIF(AU23:AU325,Lookup!I4)+COUNTIF(AU23:AU325,Lookup!I5)+COUNTIF(AU23:AU325,Lookup!I6) -> 26 | AV14: =AU14/COUNTA(AU23:AU324) -> 0.095238095 | AX14: =COUNTA(AX23:AX324) -> 274 | AY14: =COUNTA(AY23:AY324) -> 0 | AZ14: =COUNTA(AZ23:AZ324) -> 0 | BA14: Overall Fail | BB14: =COUNTIF(BB23:BB325,Lookup!I3)+COUNTIF(BB23:BB325,Lookup!I4)+COUNTIF(BB23:BB325,Lookup!I5)+COUNTIF(BB23:BB325,Lookup!I6) -> 27 | BC14: =BB14/COUNTA(BB23:BB324) -> 0.098901099
F15: Total Pass | H15: =COUNTIF(H23:H324,Lookup!I2) -> 269 | I15: =COUNTIF(I23:I324,Lookup!I2) -> 269 | J15: =COUNTIF(J23:J324,#REF!) -> 0 | K15: Overall NA & NT | L15: =COUNTIF(L23:L326,Lookup!I7)+COUNTIF(L23:L326,Lookup!I8) -> 4 | M15: =L15/COUNTA(L23:L324) -> 0.013245033 | O15: =COUNTIF(O23:O324,Lookup!B2) -> 0 | P15: =COUNTIF(P23:P324,#REF!) -> 0 | Q15: =COUNTIF(Q23:Q324,#REF!) -> 0 | R15: Overall NA & NT | S15: =COUNTIF(S23:S326,#REF!)+COUNTIF(S23:S326,#REF!) -> 0 | T15: =S15/COUNTA(S23:S324) -> 0 | V15: =COUNTIF(V23:V324,Lookup!I2) -> 265 | W15: =COUNTIF(W23:W324,#REF!) -> 0 | X15: =COUNTIF(X23:X324,#REF!) -> 0 | Y15: Overall NA & NT | Z15: =COUNTIF(Z23:Z326,#REF!)+COUNTIF(Z23:Z326,#REF!) -> 0 | AA15: =Z15/COUNTA(Z23:Z324) -> 0 | AC15: =COUNTIF(AC23:AC324,Lookup!I2) -> 266 | AD15: =COUNTIF(AD23:AD324,#REF!) -> 0 | AE15: =COUNTIF(AE23:AE324,#REF!) -> 0 | AF15: Overall NA & NT | AG15: =COUNTIF(AG23:AG326,Lookup!B7)+COUNTIF(AG23:AG326,Lookup!B8) -> 0 | AH15: =AG15/COUNTA(AG23:AG324) -> 0 | AJ15: =COUNTIF(AJ23:AJ324,Lookup!I2) -> 255 | AK15: =COUNTIF(AK23:AK324,Lookup!B2) -> 0 | AL15: =COUNTIF(AL23:AL324,#REF!) -> 0 | AM15: Overall NA & NT | AN15: =COUNTIF(AN23:AN326,Lookup!I7)+COUNTIF(AN23:AN326,Lookup!I8) -> 2 | AO15: =AN15/COUNTA(AN23:AN324) -> 0.0069204152 | AQ15: =COUNTIF(AQ23:AQ324,Lookup!I2) -> 246 | AR15: =COUNTIF(AR23:AR324,Lookup!I2) -> 245 | AS15: =COUNTIF(AS23:AS324,Lookup!C2) -> 0 | AT15: Overall NA & NT | AU15: =COUNTIF(AU23:AU326,Lookup!I7)+COUNTIF(AU23:AU326,Lookup!I8) -> 2 | AV15: =AU15/COUNTA(AU23:AU324) -> 0.0073260073 | AX15: =COUNTIF(BB23:BB324,Lookup!I2) -> 234 | AY15: =COUNTIF(AY23:AY324,Lookup!I2) -> 0 | AZ15: =COUNTIF(AZ23:AZ324,Lookup!I2) -> 0 | BA15: Overall NA & NT | BB15: =COUNTIF(BB23:BB326,Lookup!I7)+COUNTIF(BB23:BB326,Lookup!I8) -> 12 | BC15: =BB15/COUNTA(BB23:BB324) -> 0.043956044
F16: Total Fail | H16: =COUNTIF(H23:H325,Lookup!I3)+COUNTIF(H23:H325,Lookup!I4)+COUNTIF(H23:H325,Lookup!I5)+COUNTIF(H23:H325,Lookup!I6) -> 20 | I16: =COUNTIF(I23:I325,Lookup!I3)+COUNTIF(I23:I325,Lookup!I4)+COUNTIF(I23:I325,Lookup!I5)+COUNTIF(I23:I325,Lookup!I6) -> 20 | J16: =COUNTIF(L23:L325,#REF!)+COUNTIF(L23:L325,#REF!)+COUNTIF(L23:L325,#REF!)+COUNTIF(L23:L325,#REF!) -> 0 | K16: Breakdown of Failed cases | O16: =COUNTIF(O23:O325,Lookup!B3)+COUNTIF(O23:O325,Lookup!B4)+COUNTIF(O23:O325,Lookup!B5)+COUNTIF(O23:O325,Lookup!B6) -> 0 | P16: =COUNTIF(P23:P325,#REF!)+COUNTIF(P23:P325,#REF!)+COUNTIF(P23:P325,#REF!)+COUNTIF(P23:P325,#REF!) -> 0 | Q16: =COUNTIF(S23:S325,#REF!)+COUNTIF(S23:S325,#REF!)+COUNTIF(S23:S325,#REF!)+COUNTIF(S23:S325,#REF!) -> 0 | R16: Breakdown of Failed cases | V16: =COUNTIF(V23:V325,Lookup!I3)+COUNTIF(V23:V325,Lookup!I4)+COUNTIF(V23:V325,Lookup!I5)+COUNTIF(V23:V325,Lookup!I6) -> 20 | W16: =COUNTIF(W23:W325,#REF!)+COUNTIF(W23:W325,#REF!)+COUNTIF(W23:W325,#REF!)+COUNTIF(W23:W325,#REF!) -> 0 | X16: =COUNTIF(Z23:Z325,#REF!)+COUNTIF(Z23:Z325,#REF!)+COUNTIF(Z23:Z325,#REF!)+COUNTIF(Z23:Z325,#REF!) -> 0 | Y16: Breakdown of Failed cases | AC16: =COUNTIF(AC23:AC325,Lookup!I3)+COUNTIF(AC23:AC325,Lookup!I4)+COUNTIF(AC23:AC325,Lookup!I5)+COUNTIF(AC23:AC325,Lookup!I6) -> 20 | AD16: =COUNTIF(AD23:AD325,#REF!)+COUNTIF(AD23:AD325,#REF!)+COUNTIF(AD23:AD325,#REF!)+COUNTIF(AD23:AD325,#REF!) -> 0 | AE16: =COUNTIF(AG23:AG325,#REF!)+COUNTIF(AG23:AG325,#REF!)+COUNTIF(AG23:AG325,#REF!)+COUNTIF(AG23:AG325,#REF!) -> 0 | AF16: Breakdown of Failed cases | AJ16: =COUNTIF(AJ23:AJ325,Lookup!I3)+COUNTIF(AJ23:AJ325,Lookup!I4)+COUNTIF(AJ23:AJ325,Lookup!I5)+COUNTIF(AJ23:AJ325,Lookup!I6) -> 32 | AK16: =COUNTIF(AK23:AK325,Lookup!B3)+COUNTIF(AK23:AK325,Lookup!B4)+COUNTIF(AK23:AK325,Lookup!B5)+COUNTIF(AK23:AK325,Lookup!B6) -> 0 | AL16: =COUNTIF(AN23:AN325,#REF!)+COUNTIF(AN23:AN325,#REF!)+COUNTIF(AN23:AN325,#REF!)+COUNTIF(AN23:AN325,#REF!) -> 0 | AM16: Breakdown of Failed cases | AQ16: =COUNTIF(AQ23:AQ325,Lookup!I3)+COUNTIF(AQ23:AQ325,Lookup!I4)+COUNTIF(AQ23:AQ325,Lookup!I5)+COUNTIF(AQ23:AQ325,Lookup!I6) -> 26 | AR16: =COUNTIF(AR23:AR325,Lookup!I3)+COUNTIF(AR23:AR325,Lookup!I4)+COUNTIF(AR23:AR325,Lookup!I5)+COUNTIF(AR23:AR325,Lookup!I6) -> 26 | AS16: =COUNTIF(AU23:AU325,Lookup!C3)+COUNTIF(AU23:AU325,Lookup!C4)+COUNTIF(AU23:AU325,Lookup!C5)+COUNTIF(AU23:AU325,Lookup!C6) -> 0 | AT16: Breakdown of Failed cases | AX16: =COUNTIF(AX23:AX325,Lookup!I3)+COUNTIF(AX23:AX325,Lookup!I4)+COUNTIF(AX23:AX325,Lookup!I5)+COUNTIF(AX23:AX325,Lookup!I6) -> 27 | AY16: =COUNTIF(AY23:AY325,Lookup!I3)+COUNTIF(AY23:AY325,Lookup!I4)+COUNTIF(AY23:AY325,Lookup!I5)+COUNTIF(AY23:AY325,Lookup!I6) -> 0 | AZ16: =COUNTIF(BB23:BB325,Lookup!I3)+COUNTIF(BB23:BB325,Lookup!I4)+COUNTIF(BB23:BB325,Lookup!I5)+COUNTIF(BB23:BB325,Lookup!I6) -> 27 | BA16: Breakdown of Failed cases
F17: Total NT | H17: =COUNTIF(H23:H325,Lookup!I7) -> 13 | I17: =COUNTIF(I23:I325,Lookup!I7) -> 13 | J17: =COUNTIF(J23:J325,#REF!) -> 0 | K17: Fail [Critical] | L17: =COUNTIF(L23:L324,Lookup!I3) -> 3 | M17: =L17/COUNTA(L23:L324) -> 0.0099337748 | O17: =COUNTIF(O23:O325,Lookup!B7) -> 0 | P17: =COUNTIF(P23:P325,#REF!) -> 0 | Q17: =COUNTIF(Q23:Q325,#REF!) -> 0 | R17: Fail [Critical] | S17: =COUNTIF(S23:S324,#REF!) -> 0 | T17: =S17/COUNTA(S23:S324) -> 0 | V17: =COUNTIF(V23:V325,Lookup!I7) -> 4 | W17: =COUNTIF(W23:W325,#REF!) -> 0 | X17: =COUNTIF(X23:X325,#REF!) -> 0 | Y17: Fail [Critical] | Z17: =COUNTIF(Z23:Z324,#REF!) -> 0 | AA17: =Z17/COUNTA(Z23:Z324) -> 0 | AC17: =COUNTIF(AC23:AC325,Lookup!I7) -> 2 | AD17: =COUNTIF(AD23:AD325,#REF!) -> 0 | AE17: =COUNTIF(AE23:AE325,#REF!) -> 0 | AF17: Fail [Critical] | AG17: =COUNTIF(AG23:AG324,Lookup!B3) -> 0 | AH17: =AG17/COUNTA(AG23:AG324) -> 0 | AJ17: =COUNTIF(AJ23:AJ325,Lookup!I7) -> 2 | AK17: =COUNTIF(AK23:AK325,Lookup!B7) -> 0 | AL17: =COUNTIF(AL23:AL325,#REF!) -> 0 | AM17: Fail [Critical] | AN17: =COUNTIF(AN23:AN324,Lookup!I3) -> 13 | AO17: =AN17/COUNTA(AN23:AN324) -> 0.044982699 | AQ17: =COUNTIF(AQ23:AQ325,Lookup!I7) -> 2 | AR17: =COUNTIF(AR23:AR325,Lookup!I7) -> 2 | AS17: =COUNTIF(AS23:AS325,Lookup!C7) -> 0 | AT17: Fail [Critical] | AU17: =COUNTIF(AU23:AU324,Lookup!I3) -> 0 | AV17: =AU17/COUNTA(AU23:AU324) -> 0 | AX17: =COUNTIF(AX23:AX325,Lookup!I7) -> 12 | AY17: =COUNTIF(AY23:AY325,Lookup!I7) -> 0 | AZ17: =COUNTIF(AZ23:AZ325,Lookup!I7) -> 0 | BA17: Fail [Critical] | BB17: =COUNTIF(BB23:BB324,Lookup!I3) -> 1 | BC17: =BB17/COUNTA(BB23:BB324) -> 0.0036630037
F18: Total NA | H18: =COUNTIF(H23:H325,Lookup!I8) -> 0 | I18: =COUNTIF(I23:I325,Lookup!I8) -> 0 | J18: =COUNTIF(J23:J325,#REF!) -> 0 | K18: Fail [High] | L18: =COUNTIF(L23:L324,Lookup!I4) -> 2 | M18: =L18/COUNTA(L23:L324) -> 0.0066225166 | O18: =COUNTIF(O23:O325,Lookup!B8) -> 0 | P18: =COUNTIF(P23:P325,#REF!) -> 0 | Q18: =COUNTIF(Q23:Q325,#REF!) -> 0 | R18: Fail [High] | S18: =COUNTIF(S23:S324,#REF!) -> 0 | T18: =S18/COUNTA(S23:S324) -> 0 | V18: =COUNTIF(V23:V325,Lookup!I8) -> 0 | W18: =COUNTIF(W23:W325,#REF!) -> 0 | X18: =COUNTIF(X23:X325,#REF!) -> 0 | Y18: Fail [High] | Z18: =COUNTIF(Z23:Z324,#REF!) -> 0 | AA18: =Z18/COUNTA(Z23:Z324) -> 0 | AC18: =COUNTIF(AC23:AC325,Lookup!I8) -> 0 | AD18: =COUNTIF(AD23:AD325,#REF!) -> 0 | AE18: =COUNTIF(AE23:AE325,#REF!) -> 0 | AF18: Fail [High] | AG18: =COUNTIF(AG23:AG324,Lookup!B4) -> 0 | AH18: =AG18/COUNTA(AG23:AG324) -> 0 | AJ18: =COUNTIF(AJ23:AJ325,Lookup!I8) -> 0 | AK18: =COUNTIF(AK23:AK325,Lookup!B8) -> 0 | AL18: =COUNTIF(AL23:AL325,#REF!) -> 0 | AM18: Fail [High] | AN18: =COUNTIF(AN23:AN324,Lookup!I4) -> 2 | AO18: =AN18/COUNTA(AN23:AN324) -> 0.0069204152 | AQ18: =COUNTIF(AQ23:AQ325,Lookup!I8) -> 0 | AR18: =COUNTIF(AR23:AR325,Lookup!I8) -> 0 | AS18: =COUNTIF(AS23:AS325,Lookup!C8) -> 0 | AT18: Fail [High] | AU18: =COUNTIF(AU23:AU324,Lookup!I4) -> 6 | AV18: =AU18/COUNTA(AU23:AU324) -> 0.021978022 | AX18: =COUNTIF(AX23:AX325,Lookup!I8) -> 0 | AY18: =COUNTIF(AY23:AY325,Lookup!I8) -> 0 | AZ18: =COUNTIF(AZ23:AZ325,Lookup!I8) -> 0 | BA18: Fail [High] | BB18: =COUNTIF(BB23:BB324,Lookup!I4) -> 8 | BC18: =BB18/COUNTA(BB23:BB324) -> 0.029304029
F19: % Pass | H19: =(H15/H14) -> 0.89072848 | I19: =(I15/I14) -> 0.89072848 | J19: =(J15/J14) -> #DIV/0! | K19: Fail[Medium] | L19: =COUNTIF(L23:L324,Lookup!I5) -> 11 | M19: =L19/COUNTA(L23:L324) -> 0.036423841 | O19: =(O15/O14) -> 0 | P19: =(P15/P14) -> #DIV/0! | Q19: =(Q15/Q14) -> #DIV/0! | R19: Fail[Medium] | S19: =COUNTIF(S23:S324,#REF!) -> 0 | T19: =S19/COUNTA(S23:S324) -> 0 | V19: =(V15/V14) -> 0.91695502 | W19: =(W15/W14) -> #DIV/0! | X19: =(X15/X14) -> #DIV/0! | Y19: Fail[Medium] | Z19: =COUNTIF(Z23:Z324,#REF!) -> 0 | AA19: =Z19/COUNTA(Z23:Z324) -> 0 | AC19: =(AC15/AC14) -> 0.92361111 | AD19: =(AD15/AD14) -> #DIV/0! | AE19: =(AE15/AE14) -> #DIV/0! | AF19: Fail[Medium] | AG19: =COUNTIF(AG23:AG324,Lookup!B5) -> 0 | AH19: =AG19/COUNTA(AG23:AG324) -> 0 | AJ19: =(AJ15/AJ14) -> 0.88235294 | AK19: =(AK15/AK14) -> #DIV/0! | AL19: =(AL15/AL14) -> #DIV/0! | AM19: Fail[Medium] | AN19: =COUNTIF(AN23:AN324,Lookup!I5) -> 12 | AO19: =AN19/COUNTA(AN23:AN324) -> 0.041522491 | AQ19: =(AQ15/AQ14) -> 0.89781022 | AR19: =(AR15/AR14) -> 0.8974359 | AS19: =(AS15/AS14) -> #DIV/0! | AT19: Fail[Medium] | AU19: =COUNTIF(AU23:AU324,Lookup!I5) -> 13 | AV19: =AU19/COUNTA(AU23:AU324) -> 0.047619048 | AX19: =(AX15/AX14) -> 0.8540146 | AY19: =(AY15/AY14) -> #DIV/0! | AZ19: =(AZ15/AZ14) -> #DIV/0! | BA19: Fail[Medium] | BB19: =COUNTIF(BB23:BB324,Lookup!I5) -> 11 | BC19: =BB19/COUNTA(BB23:BB324) -> 0.04029304
F20: % Fail | H20: =H16/H14 -> 0.066225166 | I20: =I16/I14 -> 0.066225166 | J20: =J16/J14 -> #DIV/0! | K20: Fail[Low] | L20: =COUNTIF(L23:L324,Lookup!I6) -> 5 | M20: =L20/COUNTA(L23:L324) -> 0.016556291 | O20: =O16/O14 -> 0 | P20: =P16/P14 -> #DIV/0! | Q20: =Q16/Q14 -> #DIV/0! | R20: Fail[Low] | S20: =COUNTIF(S23:S324,#REF!) -> 0 | T20: =S20/COUNTA(S23:S324) -> 0 | V20: =V16/V14 -> 0.069204152 | W20: =W16/W14 -> #DIV/0! | X20: =X16/X14 -> #DIV/0! | Y20: Fail[Low] | Z20: =COUNTIF(Z23:Z324,#REF!) -> 0 | AA20: =Z20/COUNTA(Z23:Z324) -> 0 | AC20: =AC16/AC14 -> 0.069444444 | AD20: =AD16/AD14 -> #DIV/0! | AE20: =AE16/AE14 -> #DIV/0! | AF20: Fail[Low] | AG20: =COUNTIF(AG23:AG324,Lookup!B6) -> 0 | AH20: =AG20/COUNTA(AG23:AG324) -> 0 | AJ20: =AJ16/AJ14 -> 0.11072664 | AK20: =AK16/AK14 -> #DIV/0! | AL20: =AL16/AL14 -> #DIV/0! | AM20: Fail[Low] | AN20: =COUNTIF(AN23:AN324,Lookup!I6) -> 5 | AO20: =AN20/COUNTA(AN23:AN324) -> 0.017301038 | AQ20: =AQ16/AQ14 -> 0.094890511 | AR20: =AR16/AR14 -> 0.095238095 | AS20: =AS16/AS14 -> #DIV/0! | AT20: Fail[Low] | AU20: =COUNTIF(AU23:AU324,Lookup!I6) -> 7 | AV20: =AU20/COUNTA(AU23:AU324) -> 0.025641026 | AX20: =AX16/AX14 -> 0.098540146 | AY20: =AY16/AY14 -> #DIV/0! | AZ20: =AZ16/AZ14 -> #DIV/0! | BA20: Fail[Low] | BB20: =COUNTIF(BB23:BB324,Lookup!I6) -> 7 | BC20: =BB20/COUNTA(BB23:BB324) -> 0.025641026
A21: Sl. No. | B21: Test Area/ Pre-conditions | C21: Test Objective | D21: Test Actions/ Steps | E21: Expected Result | F21: Regression Test | H21: Actual Results | K21: Build Summary | O21: Actual Results | R21: Build Summary | V21: Actual Results | Y21: Build Summary | AC21: Actual Results | AF21: Build Summary | AJ21: Actual Results | AM21: Build Summary | AQ21: Actual Results | AT21: Build Summary | AX21: Actual Results | BA21: Build Summary
H22: One Plus Nord CE (OS 11) | I22: iPhone 8, 15.4 | K22: Comments | L22: Overall Result | M22: Notion ID | O22: Honor (OS 11) | R22: Comments | S22: Overall Result | T22: Notion ID | V22: One Plus Nord CE (OS 11) | Y22: Comments | Z22: Overall Result | AA22: Notion ID | AC22: One Plus Nord CE (OS 11) | AF22: Comments | AG22: Overall Result | AH22: Notion ID | AJ22: One Plus Nord CE (OS 11) | AM22: Comments | AN22: Overall Result | AO22: Notion ID | AQ22: One Plus Nord CE (OS 11) | AR22: iPhone 7 OS 15.4 | AT22: Comments | AU22: Overall Result | AV22: Notion ID | AX22: One Plus Nord CE (OS 11) | AY22: iPhone 7(OS 15.4) | BA22: Comments | BB22: Overall Result | BC22: Notion ID
A23: 1 | B23: New User Experience / Sign Up Flow | C23: Verify the Sign Up Screen for design elements | D23: 1. Launch app 2. Click on Create Account button | E23: Sign up Page should be opened with below attributes, 1. Email Address text field 2. Password field 3. Show Password button 4. Create Account button 5. Apple Sign up button 6. Facebook Sign up button 7. Google Sign up button 8. Terms of Service link 9. Privacy Policy link 10. Back button | F23: YES | H23: Pass | I23: Pass | L23: Pass | O23: Pass | S23: Pass | V23: Pass | Z23: Pass | AC23: Pass | AG23: Pass | AJ23: Pass | AN23: Pass | AQ23: Pass | AR23: Pass | AU23: Pass | AX23: Pass | BB23: Pass
A24: 2 | C24: Verify screen navigation from Sign up Screen | D24: 1. Click on back button from Sign up page 2. Swipe the left side of the Sign up screen | E24: User should be able to take to previous screen, i.e launch screen without any issue | F24: YES | H24: Pass | I24: Pass | L24: Pass | O24: Pass | S24: Pass | V24: Pass | Z24: Pass | AC24: Pass | AG24: Pass | AJ24: Pass | AN24: Pass | AQ24: Pass | AR24: Pass | AU24: Pass | AX24: Pass | BB24: Pass
A25: 3 | C25: Verify screen navigation from Sign up Screen | D25: Click on Privacy Policy link | E25: Use should be able to take to Privacy policy page without any issue. On clicking Done should be able to come back to Sign up page | F25: YES | H25: Pass | I25: Pass | L25: Pass | O25: Pass | S25: Pass | V25: Pass | Z25: Pass | AC25: Pass | AG25: Pass | AJ25: Pass | AN25: Pass | AQ25: Pass | AR25: Pass | AU25: Pass | AX25: Pass | BB25: Pass
A26: 4 | C26: Verify screen navigation from Sign up Screen | D26: Click on Terms of Service link | E26: Use should be able to take to Terms of Service page without any issue. On clicking Done should be able to come back to Sign up page | F26: YES | H26: Pass | I26: Pass | L26: Pass | O26: Pass | S26: Pass | V26: Pass | Z26: Pass | AC26: Pass | AG26: Pass | AJ26: Pass | AN26: Pass | AQ26: Pass | AR26: Pass | AU26: Pass | AX26: Pass | BB26: Pass
A27: 5 | C27: Verify Sign up using Email | D27: 1. Launch app 2. Click on Create Account button from launch screen 3. Click on Create Account button from Sign up page (with out entering Email and Password field) | E27: Put Error message "Email address and Password is missing" | F27: NO | H27: Pass | I27: Pass | L27: Pass | O27: Pass | S27: Pass | V27: Pass | Z27: Pass | AC27: Pass | AG27: Pass | AJ27: Pass | AN27: Pass | AQ27: Pass | AR27: Pass | AU27: Pass | AX27: Pass | BB27: Pass
A28: 6 | C28: Verify Sign up using Email | D28: 1. Launch app 2. Click on Create Account button from launch screen 3. Enter invalid address format 3. Click on Create Account button from Sign up page (with out entering Password field) | E28: Put Error message "Email address and Password is missing" | F28: NO | H28: Pass | I28: Pass | L28: Pass | O28: Pass | S28: Pass | V28: Pass | Z28: Pass | AC28: Pass | AG28: Pass | AJ28: Pass | AN28: Pass | AQ28: Pass | AR28: Pass | AU28: Pass | AX28: Pass | BB28: Pass
A29: 7 | C29: Verify Sign up using Email | D29: 1. Launch app 2. Click on Create Account button from launch screen 3. Enter invalid address format 4. Enter invalid password 3. Click on Create Account button from Sign up page | E29: Put Error message "Email address is badly formated" | F29: NO | H29: Pass | I29: Pass | L29: Pass | O29: Pass | S29: Pass | V29: Pass | Z29: Pass | AC29: Pass | AG29: Pass | AJ29: Pass | AN29: Pass | AQ29: Pass | AR29: Pass | AU29: Pass | AX29: Pass | BB29: Pass
A30: 8 | C30: Verify Sign up using Email | D30: 1. Launch app 2. Click on Create Account button from launch screen 3. Enter valid email format, but non registered email 4. Enter invalid password format [less than 6 characters] 3. Click on Create Account button from Sign up page | E30: Put Error message "Password should be atleast 6 characaters" | F30: NO | H30: Pass | I30: Pass | L30: Pass | O30: Pass | S30: Pass | V30: Pass | Z30: Pass | AC30: Pass | AG30: Pass | AJ30: Pass | AN30: Pass | AQ30: Pass | AR30: Pass | AU30: Pass | AX30: Pass | BB30: Pass
A31: 9 | C31: Verify Sign up using Email | D31: 1. Launch app 2. Click on Create Account button from launch screen 3. Enter valid email format, but non registered email 4. Enter valid password format [more than 6 characters] 5. Click on Create Account button from Sign up page | E31: Sign up should be succesfull and user should be taken to create profile screen | F31: YES | H31: Pass | I31: Pass | L31: Pass | O31: Pass | S31: Pass | V31: Pass | Z31: Pass | AC31: Pass | AG31: Pass | AJ31: Pass | AN31: Pass | AQ31: Pass | AR31: Pass | AU31: Pass | AX31: Pass | BB31: Pass
A32: 10 | C32: Verify Sign up using Email | D32: 1. Launch app 2. Click on Create Account button from launch screen 3. Enter valid email format, but non registered email 4. Enter valid password format [more than 6 characters] 5. Click on Create Account button from Sign up page 6. Check if the Sign up process is smoot and transition to Create Profile page is smooth and has good user experience | E32: Sign up should be succesfull and user should be taken to create profile screen with out any UI issues, or glitches or should not have any bad user experience | F32: YES | H32: Fail [Low] | I32: Fail [Low] | L32: Fail [Low] | M32: ST-09 https://www.notion.so/storytiling/iOS-Sign-Up-Screen-turns-black-for-some-time-before-user-is-taken-to-create-profile-page-76763c0768fd48b180cb895f08cc64ac | O32: Fail [Low] | S32: Fail [Low] | T32: ST-09 https://www.notion.so/storytiling/iOS-Sign-Up-Screen-turns-black-for-some-time-before-user-is-taken-to-create-profile-page-76763c0768fd48b180cb895f08cc64ac | V32: Fail [Low] | Z32: Fail [Low] | AA32: ST-09 https://www.notion.so/storytiling/iOS-Sign-Up-Screen-turns-black-for-some-time-before-user-is-taken-to-create-profile-page-76763c0768fd48b180cb895f08cc64ac | AC32: Fail [Low] | AG32: Fail [Low] | AH32: ST-09 https://www.notion.so/storytiling/iOS-Sign-Up-Screen-turns-black-for-some-time-before-user-is-taken-to-create-profile-page-76763c0768fd48b180cb895f08cc64ac | AJ32: Fail [Low] | AN32: Fail [Low] | AO32: ST-09 https://www.notion.so/storytiling/iOS-Sign-Up-Screen-turns-black-for-some-time-before-user-is-taken-to-create-profile-page-76763c0768fd48b180cb895f08cc64ac | AQ32: Fail [Low] | AR32: Fail [Low] | AT32: Screen turns black for some time before user is taken to create profile page | AU32: Fail [Low] | AV32: ST-09 https://www.notion.so/storytiling/iOS-Sign-Up-Screen-turns-black-for-some-time-before-user-is-taken-to-create-profile-page-76763c0768fd48b180cb895f08cc64ac | AX32: Fail [Low] | BA32: Screen turns black for some time before user is taken to create profile page | BB32: Fail [Low] | BC32: ST-09 https://www.notion.so/storytiling/iOS-Sign-Up-Screen-turns-black-for-some-time-before-user-is-taken-to-create-profile-page-76763c0768fd48b180cb895f08cc64ac
A33: 11 | C33: Verify Sign up using Email | D33: 1. Launch app 2. Click on Create Account button from launch screen 3. Enter valid email format, but already registered with [facebook sign up / google sign up) 4. Enter valid password format [more than 6 characters] 5. Click on Create Account button from Sign up page | E33: "Login will be unsuccessful. Put below error message "Email id is already Signed up in Google. Please try Google login" - for google "Email id is already Signed up in Facebook. Please try Facebook login" - for facebook | F33: YES | H33: Pass | I33: Pass | L33: Pass | O33: Pass | S33: Pass | V33: Pass | Z33: Pass | AC33: Pass | AG33: Pass | AJ33: Pass | AN33: Pass | AQ33: Pass | AR33: Pass | AU33: Pass | AX33: NT | BB33: NT
A34: 12 | C34: Verify Sign up using Email during network failure | D34: 1. Launch app 2. Click on Create Account button from launch screen 3. Enter valid email format, but non registered email 4. Enter valid password format [more than 6 characters] 5. Click on Create Account button from Sign up page 6. When there is loading happening, disconnect the internet | E34: 1. If Sign up is successful before the network break, then take user to create profile page 2. If Sign up is unsuccesful before the network break, then let the user be in create account page with proper error message | F34: NO | H34: Pass | I34: Pass | L34: Pass | O34: Pass | S34: Pass | V34: Pass | Z34: Pass | AC34: Pass | AG34: Pass | AJ34: Pass | AN34: Pass | AQ34: Pass | AR34: Pass | AU34: Pass | AX34: Pass | BB34: Pass
A35: 13 | C35: Verify Sign up using Email during network failure | D35: 1. Launch app 2. Click on Create Account button from launch screen 3. Enter valid email format, but non registered email 4. Enter valid password format [more than 6 characters] 5. Click on Create Account button from Sign up page 6. When there is loading happening, disconnect the internet 7. Observe user will get error message 8. Turn on the internet 9. Click on create account button | E35: Sign up should be succesfull and user should be taken to create profile screen | F35: NO | H35: Fail [Medium] | I35: Fail [Medium] | K35: Email address is already available error is displaying on trying to register again, if registration fails due to network break. | L35: Fail [Medium] | M35: ST-14 https://www.notion.so/storytiling/iOS-Sign-Up-Email-address-is-already-available-error-is-displaying-on-trying-to-register-again-i-771ca92b9b884a78ab2c1740d0fca324 | O35: Fail [Medium] | R35: Email address is already available error is displaying on trying to register again, if registration fails due to network break. | S35: Fail [Medium] | T35: ST-14 https://www.notion.so/storytiling/iOS-Sign-Up-Email-address-is-already-available-error-is-displaying-on-trying-to-register-again-i-771ca92b9b884a78ab2c1740d0fca324 | V35: Fail [Medium] | Y35: Email address is already available error is displaying on trying to register again, if registration fails due to network break. | Z35: Fail [Medium] | AA35: ST-14 https://www.notion.so/storytiling/iOS-Sign-Up-Email-address-is-already-available-error-is-displaying-on-trying-to-register-again-i-771ca92b9b884a78ab2c1740d0fca324 | AC35: Fail [Medium] | AF35: Email address is already available error is displaying on trying to register again, if registration fails due to network break. | AG35: Fail [Medium] | AH35: ST-14 https://www.notion.so/storytiling/iOS-Sign-Up-Email-address-is-already-available-error-is-displaying-on-trying-to-register-again-i-771ca92b9b884a78ab2c1740d0fca324 | AJ35: Fail [Medium] | AM35: Email address is already available error is displaying on trying to register again, if registration fails due to network break. | AN35: Fail [Medium] | AO35: ST-14 https://www.notion.so/storytiling/iOS-Sign-Up-Email-address-is-already-available-error-is-displaying-on-trying-to-register-again-i-771ca92b9b884a78ab2c1740d0fca324 | AQ35: Fail [Medium] | AR35: Fail [Medium] | AT35: Email address is already available error is displaying on trying to register again, if registration fails due to network break. | AU35: Fail [Medium] | AV35: ST-14 https://www.notion.so/storytiling/iOS-Sign-Up-Email-address-is-already-available-error-is-displaying-on-trying-to-register-again-i-771ca92b9b884a78ab2c1740d0fca324 | AX35: Fail [Medium] | BA35: Email address is already available error is displaying on trying to register again, if registration fails due to network break. | BB35: Fail [Medium] | BC35: ST-14 https://www.notion.so/storytiling/iOS-Sign-Up-Email-address-is-already-available-error-is-displaying-on-trying-to-register-again-i-771ca92b9b884a78ab2c1740d0fca324
A36: 14 | C36: Verify Google Sign up | D36: 1. Launch app 2. Click on Create Account button from launch screen 3. Click on Google Sign up button 4. Select gmail which is not registered in the app | E36: Create Profile page will open with below attributes, 1. Profile pic from google should be selected 2. Edit Profile pic button 3. First Name field - filled from google name 4. Last Name field - filled from google last name 5. Invitation Code (Optional) field 6. Create Profile button | F36: YES | H36: Pass | I36: Pass | L36: Pass | O36: Pass | S36: Pass | V36: Pass | Z36: Pass | AC36: Pass | AG36: Pass | AJ36: Pass | AN36: Pass | AQ36: Pass | AR36: Pass | AU36: Pass | AX36: Pass | BB36: Pass
A37: 15 | C37: Verify Google Sign up | D37: 1. Launch app 2. Click on Create Account button from launch screen 3. Click on Google Sign up button 4. Select gmail which is registered in the app | E37: Login will be successful and user should be taken to Home Screen | F37: YES | H37: Pass | I37: Pass | L37: Pass | O37: Pass | S37: Pass | V37: Pass | Z37: Pass | AC37: Pass | AG37: Pass | AJ37: Pass | AN37: Pass | AQ37: Pass | AR37: Pass | AU37: Pass | AX37: Pass | BB37: Pass
A38: 16 | C38: Verify Google Sign up | D38: 1. Launch app 2. Click on Create Account button from launch screen 3. Click on Google Sign up button 4. Select gmail which is registered already as Facebook Sign up | E38: Login will be unsuccessful. Put below error message "Email id is already Signed up in Facebook. Please try Facebook login" | F38: NO | H38: Pass | I38: Pass | L38: NT | O38: Pass | S38: NT | V38: Pass | Z38: NT | AC38: NT | AG38: NT | AJ38: NT | AN38: NT | AQ38: Pass | AR38: Pass | AU38: Pass | AX38: Fail [Medium] | BB38: Fail [Medium] | BC38: ST-28
A39: 17 | C39: Verify Google Sign up in offline mode | D39: 1. Launch app 2. Click on Create Account button from launch screen 4. Disconnect the internet 5. Click on Google Sign up button 6. Select gmail which is registered in the app | E39: Sign up error occurred, error message needs to be displayed | F39: NO | H39: Pass | I39: Pass | L39: Pass | O39: Pass | S39: Pass | V39: Pass | Z39: Pass | AC39: Pass | AG39: Pass | AJ39: Pass | AN39: Pass | AQ39: Pass | AR39: Pass | AU39: Pass | AX39: Pass | BB39: Pass
A40: 18 | C40: Verify Facebook Sign up | D40: Pre Condition: Facebook app should be installed in the device and it should be logged in 1. Launch app 2. Click on Create Account button from launch screen 3. Click on Facebook Sign up button [Email id should not be registered in the app] | E40: Create Profile page will open with below attributes, 1. Profile pic from Facebook should be selected 2. Edit Profile pic button 3. First Name field - filled from facebook name 4. Last Name field - blank 5. Invitation Code (Optional) field 6. Create Profile button | F40: YES | H40: NT | I40: NT | L40: Pass | O40: NT | S40: Pass | V40: NT | Z40: Pass | AC40: Pass | AG40: Pass | AJ40: Pass | AN40: Pass | AQ40: Pass | AR40: Pass | AU40: Pass | AX40: NT | BB40: NT
...

Sheet ReadMe
A2: Date | B2: Version | C2: Author | E2: Reviewed By | F2: Approved By | G2: Brief Description
A3: 44688 | B3: 0.01 | C3: Sudeep VR-QA Lead | G3: Initial draft.
A6: Test Suite Plan/ Report
A7: 1 | B7: The System Test verifies if the product performs its intended functions based on overall Software Requirements Specifications (SRS). This stage is intended to find defects that can be exposed only by testing the entire product. Attributes such as external interfaces, performance, security, configuration sensitivity, recovery, and reliability are validated during this phase. A series of different tests (refer System Test Plan), each test having different purpose, are done such that together they verify that all the software products have been properly integrated and that the product performs all its functions and satisfies all its non-functional requirements. Before System Testing begins, it must be planned by PQC-PO in the Analysis and Design phase.
A8: 2 | B8: The entry criteria are that the SRS document and the HLD document are reviewed and authorized. Note that the System Test planning can occur before coding is completed, or in parallel with coding. The input for this phase are SRS, HLD, PMP and PCMP, and the outputs are the Test Suite Plan and the test results. The exit criterion is that the Test Suite Plan is reviewed and approved by Customer. The main activities are as follows:
B9: Determine the environmental needs
B10: Determine System Test procedure
B11: Identify features to be tested
B12: Identify hardware/ software/ communication interfaces
B13: Identify major business processes performed by the system
B14: Identify significant features not to be tested, and reason for their omission
B15: Identify critical tests
B16: Develop test cases
B17: Identify each test case and procedure to execute it
B18: Identify input and output data requirements
B19: Identify expected results
B20: Note: The test case should contain the expected results
A21: 3 | B21: The PQCL must furnish the SRS Requirement ID in the column provided in the Test Suite Plan. The HLD Requirement ID also needs to be mentioned in the given column if the design is completed.
A22: 4 | B22: The PQCL will prepare this Test Suite Plan. The test prescribed by the plan should be functional rather than structural. System Test Plan must specify the results expected from the test case. It must also define the set of regression tests that will be used to ensure that the changes made to product software have no unintended side effects.
A23: 5 | B23: The System Test will run for all the builds generated, and the same Test Suite Plan is updated with new test cases, and if executing the new test cases are needed, they are added to the Test Suite Plan by PQCL/ PQC-PO for all the incremental builds. The updated Test Suite Plan is again reviewed by Customer. The test team should consider the updated test cases for each incremental builds (prior to Pre-Alpha) during testing and for milestone builds, should consider all the test cases of Test Suite Plan, or as suggested by PQCL
A24: 6 | B24: If the build passes the Smoke Test (SmT), then PQC-PO will proceed for System Testing, or else, will return the build back to the Dev-PO and inform the PM/ PL and PQCL by e-mail.
A25: 7 | B25: Acronyms and Color Codes that are to be used in this Test Suite Plan are:
B26: Pass | C26: Passed test case
B27: Fail | C27: Failed test case
B28: NA | C28: Not Applicable test case
B29: NT | C29: Not tested
A30: 8 | B30: The life cycle for a defect should compulsorily follow the sequence: New-->Open-->Fixed-->Closed. When a defect is logged into the Defect tracker the status is 'New'. Then the PM/ PL/ PC shall 'Open' the defect and assign the defects he/ she feels are to be fixed, to the developer who will change the status to 'Fixed' when the defect is fixed. The QC then verifies the defect and changes the status to 'Close'. In case the defect is not satisfactorily fixed, the QC may change the status to 'Re-opened'. When the status of a defect is changed to ' Not a Defect', 'Deferred' or 'Invalid', appropriate comments need to be provided by PM or PL.

Sheet Lookup
A1: Release | B1: Device List | C1: OS | D1: Language | E1: IO_Connection | F1: System H/ W | G1: Firmware | H1: Application | I1: Status | J1: Resource
A2: Build_01 [v1.4.33(202)] | B2: iPhone 7 | C2: 15.4 | D2: English | H2: StoryTiling | I2: Pass | J2: Sudeep
A3: Build_02 v1.4.35(204) | B3: iPhone 6S | C3: 12.1.4 | I3: Fail [Critical]
I4: Fail [High]
I5: Fail [Medium]
I6: Fail [Low]
I7: NT
I8: NA
