Workbook
Name Status: Lookup!$I$3:$I$9

Sheet TestSuite
A1: Test Conditions
A2: Instructions: 1. For each test run, select the test environment values from the dropdowns provided for each columns on the top of each column, against each of the configurable items like software Release#, OS, Language, System Hardware etc 2. Indicate the test results by selecting the status values (Pass, Fail[Critical], Fail[High], Fail[Medium], Fail[Low] , NT, NA) from the drop-downs provided for each result cell 3. For Failed cases, put in the comments in the respective comments block provided build wise or Release wise against each case. (Do not insert comments on the cells) 4. Provide the DefectTracker ID against each failed case in the space provided for each build. 5. To add more columns, insert a new column before the last shaded column which will automatically get populated with all drop-downs 6. After adding each build 'n', add a defined area 'Result' which should be pointing to the build's overall Result column. | F2: Build#/Release# | H2: Build_06 [Production_v1.4.40(211)] | O2: Build_05 [Staging_v1.4.39(209)] | V2: Build_05 [Staging_v1.4.38(207)] | AC2: Build_04 [Prod_v1.4.38(207)] | AJ2: Build_03 [Staging_v1.4.37(206)] | AQ2: Build_02 [v1.4.37(206)] | AX2: Build_01 [v1.4.33(202)]
F3: Tested/Reviewed By | AQ3: Sudeep VR | AR3: Sudeep VR | AX3: Sudeep VR | AY3: Sudeep VR
F4: Date | H4: 44742 | I4: 44742 | O4: 44737 | V4: 44724 | AC4: 44724 | AJ4: 44712 | AQ4: 44707 | AR4: 44707
F5: Effort Spent in Hours | AQ5: 1.5hr | AR5: 1.5hr
F6: Device | H6: One Plus Nord CE, 5G | I6: iPhone 8 | O6: One Plus Nord CE, 5G | V6: One Plus Nord CE, 5G | AC6: One Plus Nord CE, 5G | AJ6: One Plus Nord CE, 5G
F7: OS | H7: Android 11 | I7: iOS 15.4 | O7: Android 11 | V7: Android 11 | AC7: Android 11 | AJ7: Android 11 | AQ7: Android 11 | AR7: iOS 15.4 | AX7: Android 11 | AY7: iOS 15.4
F8: Language | H8: English | I8: English | O8: English | V8: English | AC8: English | AJ8: English | AQ8: English | AR8: English | AX8: English | AY8: English
F9: System Hardware | AQ9: One Plus Nord CE 5G | AR9: iPhone 7 | AX9: One Plus Nord CE 5G | AY9: iPhone 7
F10: IO_Connection
F11: Firmware
F12: Application/ Version | AQ12: v1.4.37(206) | AR12: v1.4.37(206) | AX12: Beta 1.4.33 | AY12: v1.4.33(202)
F13: Total cases | H13: =ROWS(A23:A324) -> 302 | I13: =ROWS(A23:A324) -> 302 | J13: =ROWS(#REF!) -> #REF! | K13: Overall Pass | L13: =COUNTIF(L23:L324,Lookup!I2) -> 277 | M13: =L13/(COUNTA(L23:L324)) -> 0.91721854 | O13: =ROWS(#REF!) -> #REF! | P13: =ROWS(#REF!) -> #REF! | Q13: =ROWS(#REF!) -> #REF! | R13: Overall Pass | S13: =COUNTIF(S23:S324,#REF!) -> 0 | T13: =S13/(COUNTA(S23:S324)) -> 0 | V13: =ROWS(A23:A324) -> 302 | W13: =ROWS(#REF!) -> #REF! | X13: =ROWS(#REF!) -> #REF! | Y13: Overall Pass | Z13: =COUNTIF(Z23:Z324,#REF!) -> 0 | AA13: =Z13/(COUNTA(Z23:Z324)) -> 0 | AC13: =ROWS(A23:A324) -> 302 | AD13: =ROWS(#REF!) -> #REF! | AE13: =ROWS(#REF!) -> #REF! | AF13: Overall Pass | AG13: =COUNTIF(AG23:AG324,Lookup!B2) -> 0 | AH13: =AG13/(COUNTA(AG23:AG324)) -> 0 | AJ13: =ROWS(A23:A324) -> 302 | AK13: =ROWS(#REF!) -> #REF! | AL13: =ROWS(#REF!) -> #REF! | AM13: Overall Pass | AN13: =COUNTIF(AN23:AN324,Lookup!I2) -> 255 | AO13: =AN13/(COUNTA(AN23:AN324)) -> 0.88235294 | AQ13: =ROWS(A23:A324) -> 302 | AR13: =ROWS(A23:A324) -> 302 | AS13: =ROWS(#REF!) -> #REF! | AT13: Overall Pass | AU13: =COUNTIF(AU23:AU324,Lookup!I2) -> 245 | AV13: =AU13/(COUNTA(AU23:AU324)) -> 0.8974359 | AX13: =ROWS(A23:A324) -> 302 | AY13: =ROWS(B23:B324) -> 302 | AZ13: =ROWS(C23:C324) -> 302 | BA13: Overall Pass | BB13: =COUNTIF(BB23:BB324,Lookup!I2) -> 234 | BC13: =BB13/(COUNTA(BB23:BB324)) -> 0.85714286
F14: Total cases Run | H14: =COUNTA(H23:H324) -> 302 | I14: =COUNTA(I23:I324) -> 302 | J14: =COUNTA(J23:J324) -> 0 | K14: Overall Fail | L14: =COUNTIF(L23:L325,Lookup!I3)+COUNTIF(L23:L325,Lookup!I4)+COUNTIF(L23:L325,Lookup!I5)+COUNTIF(L23:L325,Lookup!I6) -> 21 | M14: =L14/COUNTA(L23:L324) -> 0.069536424 | O14: =COUNTA(O23:O324) -> 289 | P14: =COUNTA(P23:P324) -> 0 | Q14: =COUNTA(Q23:Q324) -> 0 | R14: Overall Fail | S14: =COUNTIF(S23:S325,#REF!)+COUNTIF(S23:S325,#REF!)+COUNTIF(S23:S325,#REF!)+COUNTIF(S23:S325,#REF!) -> 0 | T14: =S14/COUNTA(S23:S324) -> 0 | V14: =COUNTA(V23:V324) -> 289 | W14: =COUNTA(W23:W324) -> 0 | X14: =COUNTA(X23:X324) -> 0 | Y14: Overall Fail | Z14: =COUNTIF(Z23:Z325,#REF!)+COUNTIF(Z23:Z325,#REF!)+COUNTIF(Z23:Z325,#REF!)+COUNTIF(Z23:Z325,#REF!) -> 0 | AA14: =Z14/COUNTA(Z23:Z324) -> 0 | AC14: =COUNTA(AC23:AC324) -> 288 | AD14: =COUNTA(AD23:AD324) -> 0 | AE14: =COUNTA(AE23:AE324) -> 0 | AF14: Overall Fail | AG14: =COUNTIF(AG23:AG325,Lookup!B3)+COUNTIF(AG23:AG325,Lookup!B4)+COUNTIF(AG23:AG325,Lookup!B5)+COUNTIF(AG23:AG325,Lookup!B6) -> 0 | AH14: =AG14/COUNTA(AG23:AG324) -> 0 | AJ14: =COUNTA(AJ23:AJ324) -> 289 | AK14: =COUNTA(AK23:AK324) -> 0 | AL14: =COUNTA(AL23:AL324) -> 0 | AM14: Overall Fail | AN14: =COUNTIF(AN23:AN325,Lookup!I3)+COUNTIF(AN23:AN325,Lookup!I4)+COUNTIF(AN23:AN325,Lookup!I5)+COUNTIF(AN23:AN325,Lookup!I6) -> 32 | AO14: =AN14/COUNTA(AN23:AN324) -> 0.11072664 | AQ14: =COUNTA(AQ23:AQ324) -> 274 | AR14: =COUNTA(AR23:AR324) -> 273 | AS14: =COUNTA(AS23:AS324) -> 0 | AT14: Overall Fail | AU14: =COUNTIF(AU23:AU325,Lookup!I3)+COUNTIF(AU23:AU325,Lookup!I4)+COUNTIF(AU23:AU325,Lookup!I5)+COUNTIF(AU23:AU325,Lookup!I6) -> 26 | AV14: =AU14/COUNTA(AU23:AU324) -> 0.095238095 | AX14: =COUNTA(AX23:AX324) -> 274 | AY14: =COUNTA(AY23:AY324) -> 0 | AZ14: =COUNTA(AZ23:AZ324) -> 0 | BA14: Overall Fail | BB14: =COUNTIF(BB23:BB325,Lookup!I3)+COUNTIF(BB23:BB325,Lookup!I4)+COUNTIF(BB23:BB325,Lookup!I5)+COUNTIF(BB23:BB325,Lookup!I6) -> 27 | BC14: =BB14/COUNTA(BB23:BB324) -> 0.098901099
F15: Total Pass | H15: =COUNTIF(H23:H324,Lookup!I2) -> 269 | I15: =COUNTIF(I23:I324,Lookup!I2) -> 269 | J15: =COUNTIF(J23:J324,#REF!) -> 0 | K15: Overall NA & NT | L15: =COUNTIF(L23:L326,Lookup!I7)+COUNTIF(L23:L326,Lookup!I8) -> 4 | M15: =L15/COUNTA(L23:L324) -> 0.013245033 | O15: =COUNTIF(O23:O324,Lookup!B2) -> 0 | P15: =COUNTIF(P23:P324,#REF!) -> 0 | Q15: =COUNTIF(Q23:Q324,#REF!) -> 0 | R15: Overall NA & NT | S15: =COUNTIF(S23:S326,#REF!)+COUNTIF(S23:S326,#REF!) -> 0 | T15: =S15/COUNTA(S23:S324) -> 0 | V15: =COUNTIF(V23:V324,Lookup!I2) -> 265 | W15: =COUNTIF(W23:W324,#REF!) -> 0 | X15: =COUNTIF(X23:X324,#REF!) -> 0 | Y15: Overall NA & NT | Z15: =COUNTIF(Z23:Z326,#REF!)+COUNTIF(Z23:Z326,#REF!) -> 0 | AA15: =Z15/COUNTA(Z23:Z324) -> 0 | AC15: =COUNTIF(AC23:AC324,Lookup!I2) -> 266 | AD15: =COUNTIF(AD23:AD324,#REF!) -> 0 | AE15: =COUNTIF(AE23:AE324,#REF!) -> 0 | AF15: Overall NA & NT | AG15: =COUNTIF(AG23:AG326,Lookup!B7)+COUNTIF(AG23:AG326,Lookup!B8) -> 0 | AH15: =AG15/COUNTA(AG23:AG324) -> 0 | AJ15: =COUNTIF(AJ23:AJ324,Lookup!I2) -> 255 | AK15: =COUNTIF(AK23:AK324,Lookup!B2) -> 0 | AL15: =COUNTIF(AL23:AL324,#REF!) -> 0 | AM15: Overall NA & NT | AN15: =COUNTIF(AN23:AN326,Lookup!I7)+COUNTIF(AN23:AN326,Lookup!I8) -> 2 | AO15: =AN15/COUNTA(AN23:AN324) -> 0.0069204152 | AQ15: =COUNTIF(AQ23:AQ324,Lookup!I2) -> 246 | AR15: =COUNTIF(AR23:AR324,Lookup!I2) -> 245 | AS15: =COUNTIF(AS23:AS324,Lookup!C2) -> 0 | AT15: Overall NA & NT | AU15: =COUNTIF(AU23:AU326,Lookup!I7)+COUNTIF(AU23:AU326,Lookup!I8) -> 2 | AV15: =AU15/COUNTA(AU23:AU324) -> 0.0073260073 | AX15: =COUNTIF(BB23:BB324,Lookup!I2) -> 234 | AY15: =COUNTIF(AY23:AY324,Lookup!I2) -> 0 | AZ15: =COUNTIF(AZ23:AZ324,Lookup!I2) -> 0 | BA15: Overall NA & NT | BB15: =COUNTIF(BB23:BB326,Lookup!I7)+COUNTIF(BB23:BB326,Lookup!I8) -> 12 | BC15: =BB15/COUNTA(BB23:BB324) -> 0.043956044
F16: Total Fail | H16: =COUNTIF(H23:H325,Lookup!I3)+COUNTIF(H23:H325,Lookup!I4)+COUNTIF(H23:H325,Lookup!I5)+COUNTIF(H23:H325,Lookup!I6) -> 20 | I16: =COUNTIF(I23:I325,Lookup!I3)+COUNTIF(I23:I325,Lookup!I4)+COUNTIF(I23:I325,Lookup!I5)+COUNTIF(I23:I325,Lookup!I6) -> 20 | J16: =COUNTIF(L23:L325,#REF!)+COUNTIF(L23:L325,#REF!)+COUNTIF(L23:L325,#REF!)+COUNTIF(L23:L325,#REF!) -> 0 | K16: Breakdown of Failed cases | O16: =COUNTIF(O23:O325,Lookup!B3)+COUNTIF(O23:O325,Lookup!B4)+COUNTIF(O23:O325,Lookup!B5)+COUNTIF(O23:O325,Lookup!B6) -> 0 | P16: =COUNTIF(P23:P325,#REF!)+COUNTIF(P23:P325,#REF!)+COUNTIF(P23:P325,#REF!)+COUNTIF(P23:P325,#REF!) -> 0 | Q16: =COUNTIF(S23:S325,#REF!)+COUNTIF(S23:S325,#REF!)+COUNTIF(S23:S325,#REF!)+COUNTIF(S23:S325,#REF!) -> 0 | R16: Breakdown of Failed cases | V16: =COUNTIF(V23:V325,Lookup!I3)+COUNTIF(V23:V325,Lookup!I4)+COUNTIF(V23:V325,Lookup!I5)+COUNTIF(V23:V325,Lookup!I6) -> 20 | W16: =COUNTIF(W23:W325,#REF!)+COUNTIF(W23:W325,#REF!)+COUNTIF(W23:W325,#REF!)+COUNTIF(W23:W325,#REF!) -> 0 | X16: =COUNTIF(Z23:Z325,#REF!)+COUNTIF(Z23:Z325,#REF!)+COUNTIF(Z23:Z325,#REF!)+COUNTIF(Z23:Z325,#REF!) -> 0 | Y16: Breakdown of Failed cases | AC16: =COUNTIF(AC23:AC325,Lookup!I3)+COUNTIF(AC23:AC325,Lookup!I4)+COUNTIF(AC23:AC325,Lookup!I5)+COUNTIF(AC23:AC325,Lookup!I6) -> 20 | AD16: =COUNTIF(AD23:AD325,#REF!)+COUNTIF(AD23:AD325,#REF!)+COUNTIF(AD23:AD325,#REF!)+COUNTIF(AD23:AD325,#REF!) -> 0 | AE16: =COUNTIF(AG23:AG325,#REF!)+COUNTIF(AG23:AG325,#REF!)+COUNTIF(AG23:AG325,#REF!)+COUNTIF(AG23:AG325,#REF!) -> 0 | AF16: Breakdown of Failed cases | AJ16: =COUNTIF(AJ23:AJ325,Lookup!I3)+COUNTIF(AJ23:AJ325,Lookup!I4)+COUNTIF(AJ23:AJ325,Lookup!I5)+COUNTIF(AJ23:AJ325,Lookup!I6) -> 32 | AK16: =COUNTIF(AK23:AK325,Lookup!B3)+COUNTIF(AK23:AK325,Lookup!B4)+COUNTIF(AK23:AK325,Lookup!B5)+COUNTIF(AK23:AK325,Lookup!B6) -> 0 | AL16: =COUNTIF(AN23:AN325,#REF!)+COUNTIF(AN23:AN325,#REF!)+COUNTIF(AN23:AN325,#REF!)+COUNTIF(AN23:AN325,#REF!) -> 0 | AM16: Breakdown of Failed cases | AQ16: =COUNTIF(AQ23:AQ325,Lookup!I3)+COUNTIF(AQ23:AQ325,Lookup!I4)+COUNTIF(AQ23:AQ325,Lookup!I5)+COUNTIF(AQ23:AQ325,Lookup!I6) -> 26 | AR16: =COUNTIF(AR23:AR325,Lookup!I3)+COUNTIF(AR23:AR325,Lookup!I4)+COUNTIF(AR23:AR325,Lookup!I5)+COUNTIF(AR23:AR325,Lookup!I6) -> 26 | AS16: =COUNTIF(AU23:AU325,Lookup!C3)+COUNTIF(AU23:AU325,Lookup!C4)+COUNTIF(AU23:AU325,Lookup!C5)+COUNTIF(AU23:AU325,Lookup!C6) -> 0 | AT16: Breakdown of Failed cases | AX16: =COUNTIF(AX23:AX325,Lookup!I3)+COUNTIF(AX23:AX325,Lookup!I4)+COUNTIF(AX23:AX325,Lookup!I5)+COUNTIF(AX23:AX325,Lookup!I6) -> 27 | AY16: =COUNTIF(AY23:AY325,Lookup!I3)+COUNTIF(AY23:AY325,Lookup!I4)+COUNTIF(AY23:AY325,Lookup!I5)+COUNTIF(AY23:AY325,Lookup!I6) -> 0 | AZ16: =COUNTIF(BB23:BB325,Lookup!I3)+COUNTIF(BB23:BB325,Lookup!I4)+COUNTIF(BB23:BB325,Lookup!I5)+COUNTIF(BB23:BB325,Lookup!I6) -> 27 | BA16: Breakdown of Failed cases
F17: Total NT | H17: =COUNTIF(H23:H325,Lookup!I7) -> 13 | I17: =COUNTIF(I23:I325,Lookup!I7) -> 13 | J17: =COUNTIF(J23:J325,#REF!) -> 0 | K17: Fail [Critical] | L17: =COUNTIF(L23:L324,Lookup!I3) -> 3 | M17: =L17/COUNTA(L23:L324) -> 0.0099337748 | O17: =COUNTIF(O23:O325,Lookup!B7) -> 0 | P17: =COUNTIF(P23:P325,#REF!) -> 0 | Q17: =COUNTIF(Q23:Q325,#REF!) -> 0 | R17: Fail [Critical] | S17: =COUNTIF(S23:S324,#REF!) -> 0 | T17: =S17/COUNTA(S23:S324) -> 0 | V17: =COUNTIF(V23:V325,Lookup!I7) -> 4 | W17: =COUNTIF(W23:W325,#REF!) -> 0 | X17: =COUNTIF(X23:X325,#REF!) -> 0 | Y17: Fail [Critical] | Z17: =COUNTIF(Z23:Z324,#REF!) -> 0 | AA17: =Z17/COUNTA(Z23:Z324) -> 0 | AC17: =COUNTIF(AC23:AC325,Lookup!I7) -> 2 | AD17: =COUNTIF(AD23:AD325,#REF!) -> 0 | AE17: =COUNTIF(AE23:AE325,#REF!) -> 0 | AF17: Fail [Critical] | AG17: =COUNTIF(AG23:AG324,Lookup!B3) -> 0 | AH17: =AG17/COUNTA(AG23:AG324) -> 0 | AJ17: =COUNTIF(AJ23:AJ325,Lookup!I7) -> 2 | AK17: =COUNTIF(AK23:AK325,Lookup!B7) -> 0 | AL17: =COUNTIF(AL23:AL325,#REF!) -> 0 | AM17: Fail [Critical] | AN17: =COUNTIF(AN23:AN324,Lookup!I3) -> 13 | AO17: =AN17/COUNTA(AN23:AN324) -> 0.044982699 | AQ17: =COUNTIF(AQ23:AQ325,Lookup!I7) -> 2 | AR17: =COUNTIF(AR23:AR325,Lookup!I7) -> 2 | AS17: =COUNTIF(AS23:AS325,Lookup!C7) -> 0 | AT17: Fail [Critical] | AU17: =COUNTIF(AU23:AU324,Lookup!I3) -> 0 | AV17: =AU17/COUNTA(AU23:AU324) -> 0 | AX17: =COUNTIF(AX23:AX325,Lookup!I7) -> 12 | AY17: =COUNTIF(AY23:AY325,Lookup!I7) -> 0 | AZ17: =COUNTIF(AZ23:AZ325,Lookup!I7) -> 0 | BA17: Fail [Critical] | BB17: =COUNTIF(BB23:BB324,Lookup!I3) -> 1 | BC17: =BB17/COUNTA(BB23:BB324) -> 0.0036630037
F18: Total NA | H18: =COUNTIF(H23:H325,Lookup!I8) -> 0 | I18: =COUNTIF(I23:I325,Lookup!I8) -> 0 | J18: =COUNTIF(J23:J325,#REF!) -> 0 | K18: Fail [High] | L18: =COUNTIF(L23:L324,Lookup!I4) -> 2 | M18: =L18/COUNTA(L23:L324) -> 0.0066225166 | O18: =COUNTIF(O23:O325,Lookup!B8) -> 0 | P18: =COUNTIF(P23:P325,#REF!) -> 0 | Q18: =COUNTIF(Q23:Q325,#REF!) -> 0 | R18: Fail [High] | S18: =COUNTIF(S23:S324,#REF!) -> 0 | T18: =S18/COUNTA(S23:S324) -> 0 | V18: =COUNTIF(V23:V325,Lookup!I8) -> 0 | W18: =COUNTIF(W23:W325,#REF!) -> 0 | X18: =COUNTIF(X23:X325,#REF!) -> 0 | Y18: Fail [High] | Z18: =COUNTIF(Z23:Z324,#REF!) -> 0 | AA18: =Z18/COUNTA(Z23:Z324) -> 0 | AC18: =COUNTIF(AC23:AC325,Lookup!I8) -> 0 | AD18: =COUNTIF(AD23:AD325,#REF!) -> 0 | AE18: =COUNTIF(AE23:AE325,#REF!) -> 0 | AF18: Fail [High] | AG18: =COUNTIF(AG23:AG324,Lookup!B4) -> 0 | AH18: =AG18/COUNTA(AG23:AG324) -> 0 | AJ18: =COUNTIF(AJ23:AJ325,Lookup!I8) -> 0 | AK18: =COUNTIF(AK23:AK325,Lookup!B8) -> 0 | AL18: =COUNTIF(AL23:AL325,#REF!) -> 0 | AM18: Fail [High] | AN18: =COUNTIF(AN23:AN324,Lookup!I4) -> 2 | AO18: =AN18/COUNTA(AN23:AN324) -> 0.0069204152 | AQ18: =COUNTIF(AQ23:AQ325,Lookup!I8) -> 0 | AR18: =COUNTIF(AR23:AR325,Lookup!I8) -> 0 | AS18: =COUNTIF(AS23:AS325,Lookup!C8) -> 0 | AT18: Fail [High] | AU18: =COUNTIF(AU23:AU324,Lookup!I4) -> 6 | AV18: =AU18/COUNTA(AU23:AU324) -> 0.021978022 | AX18: =COUNTIF(AX23:AX325,Lookup!I8) -> 0 | AY18: =COUNTIF(AY23:AY325,Lookup!I8) -> 0 | AZ18: =COUNTIF(AZ23:AZ325,Lookup!I8) -> 0 | BA18: Fail [High] | BB18: =COUNTIF(BB23:BB324,Lookup!I4) -> 8 | BC18: =BB18/COUNTA(BB23:BB324) -> 0.029304029
F19: % Pass | H19: =(H15/H14) -> 0.89072848 | I19: =(I15/I14) -> 0.89072848 | J19: =(J15/J14) -> #DIV/0! | K19: Fail[Medium] | L19: =COUNTIF(L23:L324,Lookup!I5) -> 11 | M19: =L19/COUNTA(L23:L324) -> 0.036423841 | O19: =(O15/O14) -> 0 | P19: =(P15/P14) -> #DIV/0! | Q19: =(Q15/Q14) -> #DIV/0! | R19: Fail[Medium] | S19: =COUNTIF(S23:S324,#REF!) -> 0 | T19: =S19/COUNTA(S23:S324) -> 0 | V19: =(V15/V14) -> 0.91695502 | W19: =(W15/W14) -> #DIV/0! | X19: =(X15/X14) -> #DIV/0! | Y19: Fail[Medium] | Z19: =COUNTIF(Z23:Z324,#REF!) -> 0 | AA19: =Z19/COUNTA(Z23:Z324) -> 0 | AC19: =(AC15/AC14) -> 0.92361111 | AD19: =(AD15/AD14) -> #DIV/0! | AE19: =(AE15/AE14) -> #DIV/0! | AF19: Fail[Medium] | AG19: =COUNTIF(AG23:AG324,Lookup!B5) -> 0 | AH19: =AG19/COUNTA(AG23:AG324) -> 0 | AJ19: =(AJ15/AJ14) -> 0.88235294 | AK19: =(AK15/AK14) -> #DIV/0! | AL19: =(AL15/AL14) -> #DIV/0! | AM19: Fail[Medium] | AN19: =COUNTIF(AN23:AN324,Lookup!I5) -> 12 | AO19: =AN19/COUNTA(AN23:AN324) -> 0.041522491 | AQ19: =(AQ15/AQ14) -> 0.89781022 | AR19: =(AR15/AR14) -> 0.8974359 | AS19: =(AS15/AS14) -> #DIV/0! | AT19: Fail[Medium] | AU19: =COUNTIF(AU23:AU324,Lookup!I5) -> 13 | AV19: =AU19/COUNTA(AU23:AU324) -> 0.047619048 | AX19: =(AX15/AX14) -> 0.8540146 | AY19: =(AY15/AY14) -> #DIV/0! | AZ19: =(AZ15/AZ14) -> #DIV/0! | BA19: Fail[Medium] | BB19: =COUNTIF(BB23:BB324,Lookup!I5) -> 11 | BC19: =BB19/COUNTA(BB23:BB324) -> 0.04029304
F20: % Fail | H20: =H16/H14 -> 0.066225166 | I20: =I16/I14 -> 0.066225166 | J20: =J16/J14 -> #DIV/0! | K20: Fail[Low] | L20: =COUNTIF(L23:L324,Lookup!I6) -> 5 | M20: =L20/COUNTA(L23:L324) -> 0.016556291 | O20: =O16/O14 -> 0 | P20: =P16/P14 -> #DIV/0! | Q20: =Q16/Q14 -> #DIV/0! | R20: Fail[Low] | S20: =COUNTIF(S23:S324,#REF!) -> 0 | T20: =S20/COUNTA(S23:S324) -> 0 | V20: =V16/V14 -> 0.069204152 | W20: =W16/W14 -> #DIV/0! | X20: =X16/X14 -> #DIV/0! | Y20: Fail[Low] | Z20: =COUNTIF(Z23:Z324,#REF!) -> 0 | AA20: =Z20/COUNTA(Z23:Z324) -> 0 | AC20: =AC16/AC14 -> 0.069444444 | AD20: =AD16/AD14 -> #DIV/0! | AE20: =AE16/AE14 -> #DIV/0! | AF20: Fail[Low] | AG20: =COUNTIF(AG23:AG324,Lookup!B6) -> 0 | AH20: =AG20/COUNTA(AG23:AG324) -> 0 | AJ20: =AJ16/AJ14 -> 0.11072664 | AK20: =AK16/AK14 -> #DIV/0! | AL20: =AL16/AL14 -> #DIV/0! | AM20: Fail[Low] | AN20: =COUNTIF(AN23:AN324,Lookup!I6) -> 5 | AO20: =AN20/COUNTA(AN23:AN324) -> 0.017301038 | AQ20: =AQ16/AQ14 -> 0.094890511 | AR20: =AR16/AR14 -> 0.095238095 | AS20: =AS16/AS14 -> #DIV/0! | AT20: Fail[Low] | AU20: =COUNTIF(AU23:AU324,Lookup!I6) -> 7 | AV20: =AU20/COUNTA(AU23:AU324) -> 0.025641026 | AX20: =AX16/AX14 -> 0.098540146 | AY20: =AY16/AY14 -> #DIV/0! | AZ20: =AZ16/AZ14 -> #DIV/0! | BA20: Fail[Low] | BB20: =COUNTIF(BB23:BB324,Lookup!I6) -> 7 | BC20: =BB20/COUNTA(BB23:BB324) -> 0.025641026
A21: Sl. No. | B21: Test Area/ Pre-conditions | C21: Test Objective | D21: Test Actions/ Steps | E21: Expected Result | F21: Regression Test | H21: Actual Results | K21: Build Summary | O21: Actual Results | R21: Build Summary | V21: Actual Results | Y21: Build Summary | AC21: Actual Results | AF21: Build Summary | AJ21: Actual Results | AM21: Build Summary | AQ21: Actual Results | AT21: Build Summary | AX21: Actual Results | BA21: Build Summary
H22: One Plus Nord CE (OS 11) | I22: iPhone 8, 15.4 | K22: Comments | L22: Overall Result | M22: Notion ID | O22: Honor (OS 11) | R22: Comments | S22: Overall Result | T22: Notion ID | V22: One Plus Nord CE (OS 11) | Y22: Comments | Z22: Overall Result | AA22: Notion ID | AC22: One Plus Nord CE (OS 11) | AF22: Comments | AG22: Overall Result | AH22: Notion ID | AJ22: One Plus Nord CE (OS 11) | AM22: Comments | AN22: Overall Result | AO22: Notion ID | AQ22: One Plus Nord CE (OS 11) | AR22: iPhone 7 OS 15.4 | AT22: Comments | AU22: Overall Result | AV22: Notion ID | AX22: One Plus Nord CE (OS 11) | AY22: iPhone 7(OS 15.4) | BA22: Comments | BB22: Overall Result | BC22: Notion ID
A23: 1 | B23: New User Experience / Sign Up Flow | C23: Verify the Sign Up Screen for design elements | D23: 1. Launch app 2. Click on Create Account button | E23: Sign up Page should be opened with below attributes, 1. Email Address text field 2. Password field 3. Show Password button 4. Create Account button 5. Apple Sign up button 6. Facebook Sign up button 7. Google Sign up button 8. Terms of Service link 9. Privacy Policy link 10. Back button | F23: YES | H23: Pass | I23: Pass | L23: Pass | O23: Pass | S23: Pass | V23: Pass | Z23: Pass | AC23: Pass | AG23: Pass | AJ23: Pass | AN23: Pass | AQ23: Pass | AR23: Pass | AU23: Pass | AX23: Pass | BB23: Pass
A24: 2 | C24: Verify screen navigation from Sign up Screen | D24: 1. Click on back button from Sign up page 2. Swipe the left side of the Sign up screen | E24: User should be able to take to previous screen, i.e launch screen without any issue | F24: YES | H24: Pass | I24: Pass | L24: Pass | O24: Pass | S24: Pass | V24: Pass | Z24: Pass | AC24: Pass | AG24: Pass | AJ24: Pass | AN24: Pass | AQ24: Pass | AR24: Pass | AU24: Pass | AX24: Pass | BB24: Pass
A25: 3 | C25: Verify screen navigation from Sign up Screen | D25: Click on Privacy Policy link | E25: Use should be able to take to Privacy policy page without any issue. On clicking Done should be able to come back to Sign up page | F25: YES | H25: Pass | I25: Pass | L25: Pass | O25: Pass | S25: Pass | V25: Pass | Z25: Pass | AC25: Pass | AG25: Pass | AJ25: Pass | AN25: Pass | AQ25: Pass | AR25: Pass | AU25: Pass | AX25: Pass | BB25: Pass
A26: 4 | C26: Verify screen navigation from Sign up Screen | D26: Click on Terms of Service link | E26: Use should be able to take to Terms of Service page without any issue. On clicking Done should be able to come back to Sign up page | F26: YES | H26: Pass | I26: Pass | L26: Pass | O26: Pass | S26: Pass | V26: Pass | Z26: Pass | AC26: Pass | AG26: Pass | AJ26: Pass | AN26: Pass | AQ26: Pass | AR26: Pass | AU26: Pass | AX26: Pass | BB26: Pass
A27: 5 | C27: Verify Sign up using Email | D27: 1. Launch app 2. Click on Create Account button from launch screen 3. Click on Create Account button from Sign up page (with out entering Email and Password field) | E27: Put Error message "Email address and Password is missing" | F27: NO | H27: Pass | I27: Pass | L27: Pass | O27: Pass | S27: Pass | V27: Pass | Z27: Pass | AC27: Pass | AG27: Pass | AJ27: Pass | AN27: Pass | AQ27: Pass | AR27: Pass | AU27: Pass | AX27: Pass | BB27: Pass
A28: 6 | C28: Verify Sign up using Email | D28: 1. Launch app 2. Click on Create Account button from launch screen 3. Enter invalid address format 3. Click on Create Account button from Sign up page (with out entering Password field) | E28: Put Error message "Email address and Password is missing" | F28: NO | H28: Pass | I28: Pass | L28: Pass | O28: Pass | S28: Pass | V28: Pass | Z28: Pass | AC28: Pass | AG28: Pass | AJ28: Pass | AN28: Pass | AQ28: Pass | AR28: Pass | AU28: Pass | AX28: Pass | BB28: Pass
A29: 7 | C29: Verify Sign up using Email | D29: 1. Launch app 2. Click on Create Account button from launch screen 3. Enter invalid address format 4. Enter invalid password 3. Click on Create Account button from Sign up page | E29: Put Error message "Email address is badly formated" | F29: NO | H29: Pass | I29: Pass | L29: Pass | O29: Pass | S29: Pass | V29: Pass | Z29: Pass | AC29: Pass | AG29: Pass | AJ29: Pass | AN29: Pass | AQ29: Pass | AR29: Pass | AU29: Pass | AX29: Pass | BB29: Pass
A30: 8 | C30: Verify Sign up using Email | D30: 1. Launch app 2. Click on Create Account button from launch screen 3. Enter valid email format, but non registered email 4. Enter invalid password format [less than 6 characters] 3. Click on Create Account button from Sign up page | E30: Put Error message "Password should be atleast 6 characaters" | F30: NO | H30: Pass | I30: Pass | L30: Pass | O30: Pass | S30: Pass | V30: Pass | Z30: Pass | AC30: Pass | AG30: Pass | AJ30: Pass | AN30: Pass | AQ30: Pass | AR30: Pass | AU30: Pass | AX30: Pass | BB30: Pass
A31: 9 | C31: Verify Sign up using Email | D31: 1. Launch app 2. Click on Create Account button from launch screen 3. Enter valid email format, but non registered email 4. Enter valid password format [more than 6 characters] 5. Click on Create Account button from Sign up page | E31: Sign up should be succesfull and user should be taken to create profile screen | F31: YES | H31: Pass | I31: Pass | L31: Pass | O31: Pass | S31: Pass | V31: Pass | Z31: Pass | AC31: Pass | AG31: Pass | AJ31: Pass | AN31: Pass | AQ31: Pass | AR31: Pass | AU31: Pass | AX31: Pass | BB31: Pass
A32: 10 | C32: Verify Sign up using Email | D32: 1. Launch app 2. Click on Create Account button from launch screen 3. Enter valid email format, but non registered email 4. Enter valid password format [more than 6 characters] 5. Click on Create Account button from Sign up page 6. Check if the Sign up process is smoot and transition to Create Profile page is smooth and has good user experience | E32: Sign up should be succesfull and user should be taken to create profile screen with out any UI issues, or glitches or should not have any bad user experience | F32: YES | H32: Fail [Low] | I32: Fail [Low] | L32: Fail [Low] | M32: ST-09 https://www.notion.so/storytiling/iOS-Sign-Up-Screen-turns-black-for-some-time-before-user-is-taken-to-create-profile-page-76763c0768fd48b180cb895f08cc64ac | O32: Fail [Low] | S32: Fail [Low] | T32: ST-09 https://www.notion.so/storytiling/iOS-Sign-Up-Screen-turns-black-for-some-time-before-user-is-taken-to-create-profile-page-76763c0768fd48b180cb895f08cc64ac | V32: Fail [Low] | Z32: Fail [Low] | AA32: ST-09 https://www.notion.so/storytiling/iOS-Sign-Up-Screen-turns-black-for-some-time-before-user-is-taken-to-create-profile-page-76763c0768fd48b180cb895f08cc64ac | AC32: Fail [Low] | AG32: Fail [Low] | AH32: ST-09 https://www.notion.so/storytiling/iOS-Sign-Up-Screen-turns-black-for-some-time-before-user-is-taken-to-create-profile-page-76763c0768fd48b180cb895f08cc64ac | AJ32: Fail [Low] | AN32: Fail [Low] | AO32: ST-09 https://www.notion.so/storytiling/iOS-Sign-Up-Screen-turns-black-for-some-time-before-user-is-taken-to-create-profile-page-76763c0768fd48b180cb895f08cc64ac | AQ32: Fail [Low] | AR32: Fail [Low] | AT32: Screen turns black for some time before user is taken to create profile page | AU32: Fail [Low] | AV32: ST-09 https://www.notion.so/storytiling/iOS-Sign-Up-Screen-turns-black-for-some-time-before-user-is-taken-to-create-profile-page-76763c0768fd48b180cb895f08cc64ac | AX32: Fail [Low] | BA32: Screen turns black for some time before user is taken to create profile page | BB32: Fail [Low] | BC32: ST-09 https://www.notion.so/storytiling/iOS-Sign-Up-Screen-turns-black-for-some-time-before-user-is-taken-to-create-profile-page-76763c0768fd48b180cb895f08cc64ac
A33: 11 | C33: Verify Sign up using Email | D33: 1. Launch app 2. Click on Create Account button from launch screen 3. Enter valid email format, but already registered with [facebook sign up / google sign up) 4. Enter valid password format [more than 6 characters] 5. Click on Create Account button from Sign up page | E33: "Login will be unsuccessful. Put below error message "Email id is already Signed up in Google. Please try Google login" - for google "Email id is already Signed up in Facebook. Please try Facebook login" - for facebook | F33: YES | H33: Pass | I33: Pass | L33: Pass | O33: Pass | S33: Pass | V33: Pass | Z33: Pass | AC33: Pass | AG33: Pass | AJ33: Pass | AN33: Pass | AQ33: Pass | AR33: Pass | AU33: Pass | AX33: NT | BB33: NT
A34: 12 | C34: Verify Sign up using Email during network failure | D34: 1. Launch app 2. Click on Create Account button from launch screen 3. Enter valid email format, but non registered email 4. Enter valid password format [more than 6 characters] 5. Click on Create Account button from Sign up page 6. When there is loading happening, disconnect the internet | E34: 1. If Sign up is successful before the network break, then take user to create profile page 2. If Sign up is unsuccesful before the network break, then let the user be in create account page with proper error message | F34: NO | H34: Pass | I34: Pass | L34: Pass | O34: Pass | S34: Pass | V34: Pass | Z34: Pass | AC34: Pass | AG34: Pass | AJ34: Pass | AN34: Pass | AQ34: Pass | AR34: Pass | AU34: Pass | AX34: Pass | BB34: Pass
A35: 13 | C35: Verify Sign up using Email during network failure | D35: 1. Launch app 2. Click on Create Account button from launch screen 3. Enter valid email format, but non registered email 4. Enter valid password format [more than 6 characters] 5. Click on Create Account button from Sign up page 6. When there is loading happening, disconnect the internet 7. Observe user will get error message 8. Turn on the internet 9. Click on create account button | E35: Sign up should be succesfull and user should be taken to create profile screen | F35: NO | H35: Fail [Medium] | I35: Fail [Medium] | K35: Email address is already available error is displaying on trying to register again, if registration fails due to network break. | L35: Fail [Medium] | M35: ST-14 https://www.notion.so/storytiling/iOS-Sign-Up-Email-address-is-already-available-error-is-displaying-on-trying-to-register-again-i-771ca92b9b884a78ab2c1740d0fca324 | O35: Fail [Medium] | R35: Email address is already available error is displaying on trying to register again, if registration fails due to network break. | S35: Fail [Medium] | T35: ST-14 https://www.notion.so/storytiling/iOS-Sign-Up-Email-address-is-already-available-error-is-displaying-on-trying-to-register-again-i-771ca92b9b884a78ab2c1740d0fca324 | V35: Fail [Medium] | Y35: Email address is already available error is displaying on trying to register again, if registration fails due to network break. | Z35: Fail [Medium] | AA35: ST-14 https://www.notion.so/storytiling/iOS-Sign-Up-Email-address-is-already-available-error-is-displaying-on-trying-to-register-again-i-771ca92b9b884a78ab2c1740d0fca324 | AC35: Fail [Medium] | AF35: Email address is already available error is displaying on trying to register again, if registration fails due to network break. | AG35: Fail [Medium] | AH35: ST-14 https://www.notion.so/storytiling/iOS-Sign-Up-Email-address-is-already-available-error-is-displaying-on-trying-to-register-again-i-771ca92b9b884a78ab2c1740d0fca324 | AJ35: Fail [Medium] | AM35: Email address is already available error is displaying on trying to register again, if registration fails due to network break. | AN35: Fail [Medium] | AO35: ST-14 https://www.notion.so/storytiling/iOS-Sign-Up-Email-address-is-already-available-error-is-displaying-on-trying-to-register-again-i-771ca92b9b884a78ab2c1740d0fca324 | AQ35: Fail [Medium] | AR35: Fail [Medium] | AT35: Email address is already available error is displaying on trying to register again, if registration fails due to network break. | AU35: Fail [Medium] | AV35: ST-14 https://www.notion.so/storytiling/iOS-Sign-Up-Email-address-is-already-available-error-is-displaying-on-trying-to-register-again-i-771ca92b9b884a78ab2c1740d0fca324 | AX35: Fail [Medium] | BA35: Email address is already available error is displaying on trying to register again, if registration fails due to network break. | BB35: Fail [Medium] | BC35: ST-14 https://www.notion.so/storytiling/iOS-Sign-Up-Email-address-is-already-available-error-is-displaying-on-trying-to-register-again-i-771ca92b9b884a78ab2c1740d0fca324
A36: 14 | C36: Verify Google Sign up | D36: 1. Launch app 2. Click on Create Account button from launch screen 3. Click on Google Sign up button 4. Select gmail which is not registered in the app | E36: Create Profile page will open with below attributes, 1. Profile pic from google should be selected 2. Edit Profile pic button 3. First Name field - filled from google name 4. Last Name field - filled from google last name 5. Invitation Code (Optional) field 6. Create Profile button | F36: YES | H36: Pass | I36: Pass | L36: Pass | O36: Pass | S36: Pass | V36: Pass | Z36: Pass | AC36: Pass | AG36: Pass | AJ36: Pass | AN36: Pass | AQ36: Pass | AR36: Pass | AU36: Pass | AX36: Pass | BB36: Pass
A37: 15 | C37: Verify Google Sign up | D37: 1. Launch app 2. Click on Create Account button from launch screen 3. Click on Google Sign up button 4. Select gmail which is registered in the app | E37: Login will be successful and user should be taken to Home Screen | F37: YES | H37: Pass | I37: Pass | L37: Pass | O37: Pass | S37: Pass | V37: Pass | Z37: Pass | AC37: Pass | AG37: Pass | AJ37: Pass | AN37: Pass | AQ37: Pass | AR37: Pass | AU37: Pass | AX37: Pass | BB37: Pass
A38: 16 | C38: Verify Google Sign up | D38: 1. Launch app 2. Click on Create Account button from launch screen 3. Click on Google Sign up button 4. Select gmail which is registered already as Facebook Sign up | E38: Login will be unsuccessful. Put below error message "Email id is already Signed up in Facebook. Please try Facebook login" | F38: NO | H38: Pass | I38: Pass | L38: NT | O38: Pass | S38: NT | V38: Pass | Z38: NT | AC38: NT | AG38: NT | AJ38: NT | AN38: NT | AQ38: Pass | AR38: Pass | AU38: Pass | AX38: Fail [Medium] | BB38: Fail [Medium] | BC38: ST-28
A39: 17 | C39: Verify Google Sign up in offline mode | D39: 1. Launch app 2. Click on Create Account button from launch screen 4. Disconnect the internet 5. Click on Google Sign up button 6. Select gmail which is registered in the app | E39: Sign up error occurred, error message needs to be displayed | F39: NO | H39: Pass | I39: Pass | L39: Pass | O39: Pass | S39: Pass | V39: Pass | Z39: Pass | AC39: Pass | AG39: Pass | AJ39: Pass | AN39: Pass | AQ39: Pass | AR39: Pass | AU39: Pass | AX39: Pass | BB39: Pass
A40: 18 | C40: Verify Facebook Sign up | D40: Pre Condition: Facebook app should be installed in the device and it should be logged in 1. Launch app 2. Click on Create Account button from launch screen 3. Click on Facebook Sign up button [Email id should not be registered in the app] | E40: Create Profile page will open with below attributes, 1. Profile pic from Facebook should be selected 2. Edit Profile pic button 3. First Name field - filled from facebook name 4. Last Name field - blank 5. Invitation Code (Optional) field 6. Create Profile button | F40: YES | H40: NT | I40: NT | L40: Pass | O40: NT | S40: Pass | V40: NT | Z40: Pass | AC40: Pass | AG40: Pass | AJ40: Pass | AN40: Pass | AQ40: Pass | AR40: Pass | AU40: Pass | AX40: NT | BB40: NT
A41: 19 | C41: Verify Facebook Sign up | D41: Pre Condition: Facebook app should be installed in the device and it should be logged in 1. Launch app 2. Click on Create Account button from launch screen 3. Click on Facebook Sign up button [Email id should be already registered in the app using Facebook] | E41: Login will be successful and user should be taken to Home Screen | F41: YES | H41: Pass | I41: Pass | L41: Pass | O41: Pass | S41: Pass | V41: Pass | Z41: Pass | AC41: Pass | AG41: Pass | AJ41: Pass | AN41: Pass | AQ41: Pass | AR41: Pass | AU41: Pass | AX41: NT | BB41: NT
A42: 20 | C42: Verify Facebook Sign up | D42: Pre Condition: Facebook app should be installed in the device and it should be logged in 1. Launch app 2. Click on Create Account button from launch screen 3. Click on Facebook Sign up button [Email id should be already registered in the app using Google Sugn up] | E42: Login will be unsuccessful. Put below error message "Email id is already Signed up in Google. Please try Facebook login" | F42: NO | H42: Pass | I42: Pass | L42: Pass | O42: Pass | S42: Pass | V42: Pass | Z42: Pass | AC42: Pass | AG42: Pass | AJ42: Pass | AN42: Pass | AQ42: Pass | AR42: Pass | AU42: Pass | AX42: NT | BB42: NT
A43: 21 | C43: Verify Facebook Sign up | D43: Pre Condition: Facebook app is not installed in the device 1. Launch app 2. Click on Create Account button from launch screen 3. Click on Facebook Sign up button [Email id should be registered in the app using Facebook Sign up] | E43: Facebook login web page will open, on entering valid facebook credentials, login to app should be successful and should take user to Home Screen without any issue | F43: NO | H43: Pass | I43: Pass | L43: Pass | O43: Pass | S43: Pass | V43: Pass | Z43: Pass | AC43: Pass | AG43: Pass | AJ43: Pass | AN43: Pass | AQ43: Pass | AR43: Pass | AU43: Pass | AX43: NT | BB43: NT
A44: 22 | C44: Verify Facebook Sign up | D44: Pre Condition: Facebook app is not installed in the device 1. Launch app 2. Click on Create Account button from launch screen 3. Click on Facebook Sign up button [Email id should not be registered in the app] | E44: Facebook login web page will open, on entering valid facebook credentials, create profile page should be opened | F44: NO | H44: Pass | I44: Pass | L44: Pass | O44: Pass | S44: Pass | V44: Pass | Z44: Pass | AC44: Pass | AG44: Pass | AJ44: Pass | AN44: Pass | AQ44: Pass | AR44: Pass | AU44: Pass | AX44: NT | BB44: NT
A45: 23 | C45: Verify Facebook Sign up in offline mode | D45: Pre Condition: Facebook app should be installed in the device and it should be logged in 1. Launch app 2. Click on Create Account button from launch screen 3. Turn off the internet 4. Click on Facebook Sign up button | E45: Sign up error occurred, error message needs to be displayed | F45: NO | H45: Pass | I45: Pass | L45: Pass | O45: Pass | S45: Pass | V45: Pass | Z45: Pass | AC45: Pass | AG45: Pass | AJ45: Pass | AN45: Pass | AQ45: Pass | AR45: Pass | AU45: Pass | AX45: Pass | BB45: Pass
A46: 24 | B46: Create Profile | C46: Verify Create Profile Page | D46: 1. Launch app 2. Click on Create Account button from launch screen 3. Enter valid email format, but non registered email 4. Enter valid password format [more than 6 characters] 3. Click on Create Account button from Sign up page | E46: Sign up should be succesfull and user should be taken to create profile screen | F46: YES | H46: Pass | I46: Pass | L46: Pass | O46: Pass | S46: Pass | V46: Pass | Z46: Pass | AC46: Pass | AG46: Pass | AJ46: Pass | AN46: Pass | AQ46: Pass | AR46: Pass | AU46: Pass | AX46: Pass | BB46: Pass
A47: 25 | C47: Verify Create profile Page - Design elements | D47: Verify the design elements of Create Profile page | E47: Create Profile page will have below attributes, 1. Profile pic default 2. Edit Profile pic button 3. First Name field 4. Last Name field 5. Invitation Code (Optional) field 6. Create Profile button | F47: YES | H47: Pass | I47: Pass | L47: Pass | O47: Pass | S47: Pass | V47: Pass | Z47: Pass | AC47: Pass | AG47: Pass | AJ47: Pass | AN47: Pass | AQ47: Pass | AR47: Pass | AU47: Pass | AX47: Pass | BB47: Pass
A48: 26 | C48: Verify Create profile Page - Back navigation flow | D48: Verify back navigation from create profile page, 1. Try to comeback from create profile page by swiping left side of the screen | E48: Should not allow user to come back from create profile page. Create profile shoulld be mandatory | F48: YES | H48: Pass | I48: Pass | L48: Pass | O48: Pass | S48: Pass | V48: Pass | Z48: Pass | AC48: Pass | AG48: Pass | AJ48: Fail [High] | AM48: User is able to comeback from create profile screen which is leading to continuous loading | AN48: Fail [High] | AO48: ST-08 https://www.notion.so/storytiling/iOS-Create-Profile-User-is-able-to-comeback-from-create-profile-screen-which-is-leading-to-contin-38b1f9b8914b4ceebb3b62680d0706b3 | AQ48: Fail [High] | AR48: Fail [High] | AT48: User is able to comeback from create profile screen which is leading to continuous loading | AU48: Fail [High] | AV48: ST-08 https://www.notion.so/storytiling/iOS-Create-Profile-User-is-able-to-comeback-from-create-profile-screen-which-is-leading-to-contin-38b1f9b8914b4ceebb3b62680d0706b3 | AX48: Fail [High] | BB48: Fail [High] | BC48: ST-08 https://www.notion.so/storytiling/iOS-Create-Profile-User-is-able-to-comeback-from-create-profile-screen-which-is-leading-to-contin-38b1f9b8914b4ceebb3b62680d0706b3
A49: 27 | C49: Verify Create profile Page - Force quit flow | D49: 1. From create profile page, do not filling details 2. Force quit the app 3. Relaunch the app | E49: Create Profile page should open, since creating profile should be mandatory for user | F49: NO | H49: Pass | I49: Pass | L49: Pass | O49: Pass | S49: Pass | V49: Pass | Z49: Pass | AC49: Pass | AG49: Pass | AJ49: Fail [Medium] | AM49: App launches directly to Home screen with first name, last name empty | AN49: Fail [Medium] | AO49: ST-10 https://www.notion.so/storytiling/iOS-Create-Profile-Create-Profile-screen-should-open-on-launch-if-user-has-not-created-the-profi-82b8363f61404d27992420c0f6f8b4ba | AQ49: Fail [Medium] | AR49: Fail [Medium] | AU49: Fail [Medium] | AV49: ST-10 https://www.notion.so/storytiling/iOS-Create-Profile-Create-Profile-screen-should-open-on-launch-if-user-has-not-created-the-profi-82b8363f61404d27992420c0f6f8b4ba | AX49: Fail [Medium] | BB49: Fail [Medium] | BC49: ST-10 https://www.notion.so/storytiling/iOS-Create-Profile-Create-Profile-screen-should-open-on-launch-if-user-has-not-created-the-profi-82b8363f61404d27992420c0f6f8b4ba
A50: 28 | C50: Verify the mandatory fields of Create profile page | D50: 1. Enter First Name 2. Enter last name | E50: Create Profile button wll be enabled only if both first name and last name is entered | F50: NO | H50: Pass | I50: Pass | L50: Pass | O50: Pass | S50: Pass | V50: Pass | Z50: Pass | AC50: Pass | AG50: Pass | AJ50: Pass | AN50: Pass | AQ50: Pass | AR50: Pass | AU50: Pass | AX50: Pass | BB50: Pass
A51: 29 | C51: Verify Uploading Profile photo for first time | D51: 1. Click on edit icon from create profile page 2. Click on Select Photos / Allow Access to All photos option from permission 3. Pick a photo from device gallery | E51: 1. Profile photo upload should be fine 2. There should be loader indication around the profile photo so that user has the clear indication whats happening 3. Profile upload time should be less than 3 sec | F51: NO | H51: Fail [Low] | I51: Fail [Low] | K51: Default profile pic should be more attractive | L51: Fail [Low] | M51: ST-11 https://www.notion.so/storytiling/iOS-Create-Profile-Default-profile-pic-should-be-more-attractive-should-have-a-feel-of-a-face-or-0290f960180d4801b6cbefdc4b575a3d | O51: Fail [Low] | R51: Default profile pic should be more attractive | S51: Fail [Low] | T51: ST-11 https://www.notion.so/storytiling/iOS-Create-Profile-Default-profile-pic-should-be-more-attractive-should-have-a-feel-of-a-face-or-0290f960180d4801b6cbefdc4b575a3d | V51: Fail [Low] | Y51: Default profile pic should be more attractive | Z51: Fail [Low] | AA51: ST-11 https://www.notion.so/storytiling/iOS-Create-Profile-Default-profile-pic-should-be-more-attractive-should-have-a-feel-of-a-face-or-0290f960180d4801b6cbefdc4b575a3d | AC51: Fail [Low] | AF51: Default profile pic should be more attractive | AG51: Fail [Low] | AH51: ST-11 https://www.notion.so/storytiling/iOS-Create-Profile-Default-profile-pic-should-be-more-attractive-should-have-a-feel-of-a-face-or-0290f960180d4801b6cbefdc4b575a3d | AJ51: Fail [Low] | AM51: Default profile pic should be more attractive | AN51: Fail [Low] | AO51: ST-11 https://www.notion.so/storytiling/iOS-Create-Profile-Default-profile-pic-should-be-more-attractive-should-have-a-feel-of-a-face-or-0290f960180d4801b6cbefdc4b575a3d | AQ51: Fail [Low] | AR51: Fail [Low] | AT51: Default profile pic should be more attractive | AU51: Fail [Low] | AV51: ST-11 https://www.notion.so/storytiling/iOS-Create-Profile-Default-profile-pic-should-be-more-attractive-should-have-a-feel-of-a-face-or-0290f960180d4801b6cbefdc4b575a3d | AX51: Fail [Low] | BB51: Fail [Low] | BC51: ST-11 https://www.notion.so/storytiling/iOS-Create-Profile-Default-profile-pic-should-be-more-attractive-should-have-a-feel-of-a-face-or-0290f960180d4801b6cbefdc4b575a3d
A52: 30 | C52: Verify Uploading Profile photo for second time | D52: 1. Click on edit icon from create profile page 2. Pick a photo from device gallery | E52: 1. Profile photo upload should be fine 2. There should be loader indication around the profile photo so that user has the clear indication whats happening 3. Profile upload time should be less than 3 sec | F52: NO | H52: Fail [Medium] | I52: Fail [Medium] | K52: Uploading profile photo there is no loading indication | L52: Fail [Medium] | M52: ST-12 https://www.notion.so/storytiling/iOS-Create-Profile-Uploading-profile-photo-there-is-no-loading-indication-a5a653e0df454a01aa0f1411205940d8 | O52: Fail [Medium] | R52: Uploading profile photo there is no loading indication | S52: Fail [Medium] | T52: ST-12 https://www.notion.so/storytiling/iOS-Create-Profile-Uploading-profile-photo-there-is-no-loading-indication-a5a653e0df454a01aa0f1411205940d8 | V52: Fail [Medium] | Y52: Uploading profile photo there is no loading indication | Z52: Fail [Medium] | AA52: ST-12 https://www.notion.so/storytiling/iOS-Create-Profile-Uploading-profile-photo-there-is-no-loading-indication-a5a653e0df454a01aa0f1411205940d8 | AC52: Fail [Medium] | AF52: Uploading profile photo there is no loading indication | AG52: Fail [Medium] | AH52: ST-12 https://www.notion.so/storytiling/iOS-Create-Profile-Uploading-profile-photo-there-is-no-loading-indication-a5a653e0df454a01aa0f1411205940d8 | AJ52: Fail [Medium] | AM52: Uploading profile photo there is no loading indication | AN52: Fail [Medium] | AO52: ST-12 https://www.notion.so/storytiling/iOS-Create-Profile-Uploading-profile-photo-there-is-no-loading-indication-a5a653e0df454a01aa0f1411205940d8 | AQ52: Fail [Medium] | AR52: Fail [Medium] | AT52: Uploading profile photo there is no loading indication | AU52: Fail [Medium] | AV52: ST-12 https://www.notion.so/storytiling/iOS-Create-Profile-Uploading-profile-photo-there-is-no-loading-indication-a5a653e0df454a01aa0f1411205940d8 | AX52: Fail [Medium] | BB52: Fail [Medium] | BC52: ST-12 https://www.notion.so/storytiling/iOS-Create-Profile-Uploading-profile-photo-there-is-no-loading-indication-a5a653e0df454a01aa0f1411205940d8
A53: 31 | C53: Verify Create Profile | D53: 1. Enter First Name 2. Enter Second Name (Do not upload photo and Invitation code) 3. Click on Create profile button | E53: Profile will be created successfully and User will be taken to Tutorial screen and then to Home screen | F53: YES | H53: Pass | I53: Pass | L53: Pass | O53: Pass | S53: Pass | V53: Pass | Z53: Pass | AC53: Pass | AG53: Pass | AJ53: Pass | AN53: Pass | AQ53: Pass | AR53: Pass | AU53: Pass | AX53: Pass | BB53: Pass
A54: 32 | C54: Verify Create Profile | D54: 1. Enter First Name 2. Enter Second Name 3. Uplaod profile photo (Do not add Invitation code) 3. Click on Create profile button | E54: Profile will be created successfully and User will be taken to Tutorial screen and then to Home screen | F54: YES | H54: Pass | I54: Pass | L54: Pass | O54: Pass | S54: Pass | V54: Pass | Z54: Pass | AC54: Pass | AG54: Pass | AJ54: Pass | AN54: Pass | AQ54: Pass | AR54: Pass | AU54: Pass | AX54: Pass | BB54: Pass
A55: 33 | C55: Verify Create Profile | D55: 1. Enter First Name 2. Enter Second Name 3. Enter invalid invitation code 4. Click on Create profile button | E55: "Code <value> has expired error message needs to be displayed | F55: YES | H55: NT | I55: NT | L55: Pass | O55: NT | S55: Pass | V55: Pass | Z55: Pass | AC55: Pass | AG55: Pass | AJ55: Pass | AN55: Pass | AQ55: Pass | AR55: Pass | AU55: Pass | AX55: Pass | BB55: Pass
A56: 34 | C56: Verify Create Profile | D56: 1. Enter First Name 2. Enter Second Name 3. Enter Valid invitation code 4. Click on Create profile button | E56: Profile will be created successfully and User will be taken to Tutorial screen and then to Home screen | F56: YES | H56: NT | I56: NT | L56: NT | O56: NT | S56: NT | V56: NT | Z56: NT | AC56: NT | AG56: NT | AJ56: NT | AN56: NT | AQ56: NT | AR56: NT | AU56: NT | AX56: NT | BB56: NT
A57: 35 | C57: Verify Create Profile in Offline mode | D57: 1. Enter First Name 2. Enter Second Name 3. Turn off the internet 4. Click on Create profile button | E57: "No internet connection" error toast needs to be displayed | F57: NO | H57: NT | I57: NT | K57: Error message needs to be corrected for creating profile in offline mode | L57: Fail [Low] | M57: ST-13 https://www.notion.so/storytiling/iOS-Create-Profile-Error-message-needs-to-be-corrected-for-creating-profile-in-offline-mode-b9b59982a92f432a9186dd609f19f5a3 | O57: NT | R57: Error message needs to be corrected for creating profile in offline mode | S57: Fail [Low] | T57: ST-13 https://www.notion.so/storytiling/iOS-Create-Profile-Error-message-needs-to-be-corrected-for-creating-profile-in-offline-mode-b9b59982a92f432a9186dd609f19f5a3 | V57: Fail [Low] | Y57: Error message needs to be corrected for creating profile in offline mode | Z57: Fail [Low] | AA57: ST-13 https://www.notion.so/storytiling/iOS-Create-Profile-Error-message-needs-to-be-corrected-for-creating-profile-in-offline-mode-b9b59982a92f432a9186dd609f19f5a3 | AC57: Fail [Low] | AF57: Error message needs to be corrected for creating profile in offline mode | AG57: Fail [Low] | AH57: ST-13 https://www.notion.so/storytiling/iOS-Create-Profile-Error-message-needs-to-be-corrected-for-creating-profile-in-offline-mode-b9b59982a92f432a9186dd609f19f5a3 | AJ57: Fail [Low] | AM57: Error message needs to be corrected for creating profile in offline mode | AN57: Fail [Low] | AO57: ST-13 https://www.notion.so/storytiling/iOS-Create-Profile-Error-message-needs-to-be-corrected-for-creating-profile-in-offline-mode-b9b59982a92f432a9186dd609f19f5a3 | AQ57: Fail [Low] | AR57: Fail [Low] | AT57: Error message needs to be corrected for creating profile in offline mode | AU57: Fail [Low] | AV57: ST-13 https://www.notion.so/storytiling/iOS-Create-Profile-Error-message-needs-to-be-corrected-for-creating-profile-in-offline-mode-b9b59982a92f432a9186dd609f19f5a3 | AX57: Fail [Low] | BB57: Fail [Low] | BC57: ST-13
A58: 36 | C58: Verify Create Profile page for Google Sign Up | D58: 1. Launch app 2. Click on Create Account button 3. Click on Google Sign Up 4. Select gmail id which is not registered | E58: Create Profile page will open with below attributes, 1. Profile pic from google should be deisplayed 2. Edit Profile pic button 3. First Name field - filled from google name 4. Last Name field - blank 5. Invitation Code (Optional) field 6. Create Profile button | F58: YES | H58: NT | I58: NT | L58: Pass | O58: NT | S58: Pass | V58: Pass | Z58: Pass | AC58: Pass | AG58: Pass | AJ58: Pass | AN58: Pass | AQ58: Pass | AR58: Pass | AU58: Pass | AX58: Pass | BB58: Pass
A59: 37 | C59: Verify Create Profile page for Google Sign Up | D59: 1. Click on Google Sign up' 2. Observe profile photo and first name is pre filled from google. 3. Enter second name | E59: Create Profile button will be enabled | F59: YES | H59: NT | I59: NT | L59: Pass | O59: NT | S59: Pass | V59: Pass | Z59: Pass | AC59: Pass | AG59: Pass | AJ59: Pass | AN59: Pass | AQ59: Pass | AR59: Pass | AU59: Pass | AX59: Fail [High] | BA59: Create profile button is not enabled | BB59: Fail [High] | BC59: ST-40
A60: 38 | C60: Verify Create Profile page for Facebook Sign Up | D60: 1. Launch app 2. Click on Create Account button 3. Click on Google Sign Up 4. Select gmail id which is not registered | E60: Create Profile page will open with below attributes, 1. Profile pic from Facebook should be displayed 2. Edit Profile pic button 3. First Name field - filled from Facebook name 4. Last Name field - blank 5. Invitation Code (Optional) field 6. Create Profile button | F60: YES | H60: NT | I60: NT | L60: Pass | O60: NT | S60: Pass | V60: Pass | Z60: Pass | AC60: Pass | AG60: Pass | AJ60: Pass | AN60: Pass | AQ60: Pass | AR60: Pass | AU60: Pass | AX60: NT | BB60: NT
A61: 39 | C61: Verify Create Profile page for Faceook Sign Up | D61: 1. Click on Facebook Sign up' 2. Observe profile photo and first name is pre filled from Facebook. 3. Enter second name | E61: Create Profile button will be enabled | F61: YES | H61: NT | I61: NT | L61: Pass | O61: NT | S61: Pass | V61: Pass | Z61: Pass | AC61: Pass | AG61: Pass | AJ61: Pass | AN61: Pass | AQ61: Pass | AR61: Pass | AU61: Pass | AX61: NT | BB61: NT
A62: 40 | C62: Verify Profile creating using Email Sign up | D62: Create profile without uploading profile photo | E62: Profile should be created with default profile photo , first name and last name and it should displayed accordingly in Profile screen | F62: YES | H62: Pass | I62: Pass | L62: Pass | O62: Pass | S62: Pass | V62: Pass | Z62: Pass | AC62: Pass | AG62: Pass | AJ62: Pass | AN62: Pass | AQ62: Pass | AR62: Pass | AU62: Pass | AX62: Pass | BB62: Pass
A63: 41 | C63: Verify Profile creating using Email Sign up | D63: Create profile by uploading profile photo | E63: Profile should be created with uploaded profile photo , first name and last name and it should displayed accordingly in Profile screen | F63: YES | H63: Pass | I63: Pass | L63: Pass | O63: Pass | S63: Pass | V63: Pass | Z63: Pass | AC63: Pass | AG63: Pass | AJ63: Pass | AN63: Pass | AQ63: Pass | AR63: Pass | AU63: Pass | AX63: Pass | BB63: Pass
A64: 42 | C64: Verify Profile creating using Gmail Sign up | D64: Create profile without uploading profile photo and without changing first name | E64: Profile should be created with google profile photo , google first name and entered last name and it should displayed accordingly in Profile screen | F64: YES | H64: NT | I64: NT | L64: Pass | O64: NT | S64: Pass | V64: Pass | Z64: Pass | AC64: Pass | AG64: Pass | AJ64: Pass | AN64: Pass | AQ64: Pass | AR64: Pass | AU64: Pass | AX64: Pass | BB64: Pass
A65: 43 | C65: Verify Profile creating using Gmail Sign up | D65: Create profile with uploading profile photo and with changing first name | E65: Profile should be created with uploaded profile photo , changed first name and entered last name and it should displayed accordingly in Profile screen | F65: YES | H65: NT | I65: NT | L65: Pass | O65: NT | S65: Pass | V65: Pass | Z65: Pass | AC65: Pass | AG65: Pass | AJ65: Pass | AN65: Pass | AQ65: Pass | AR65: Pass | AU65: Pass | AX65: Pass | BB65: Pass
A66: 44 | C66: Verify Profile creating using Facebook Sign up | D66: Create profile without uploading profile photo and without changing first name | E66: Profile should be created with Facebook profile photo , facebook first name and entered last name and it should displayed accordingly in Profile screen | F66: YES | H66: NT | I66: NT | L66: NT | O66: NT | S66: NT | V66: NT | Z66: NT | AC66: Pass | AG66: Pass | AJ66: Pass | AN66: Pass | AQ66: Pass | AR66: Pass | AU66: Pass | AX66: NT | BB66: NT
A67: 45 | C67: Verify Profile creating using Facebook Sign up | D67: Create profile with uploading profile photo and with changing first name | E67: Profile should be created with uploaded profile photo , changed first name and entered last name and it should displayed accordingly in Profile screen | F67: YES | H67: NT | I67: NT | L67: NT | O67: NT | S67: NT | V67: NT | Z67: NT | AC67: Pass | AG67: Pass | AJ67: Pass | AN67: Pass | AQ67: Pass | AR67: Pass | AU67: Pass | AX67: NT | BB67: NT
A68: 46 | B68: Launch Screen | C68: Verify the first launch in offline mode | D68: 1. Install the build from TestFlight 2. Turn Off the internet 3. New user first time launch the app [Fresh launch] 4. Allow / Don't Allow the notification permission | E68: StoryTiling app will launch and user will be taken to create account / Sign in screen without any issue. Note: Notification permission alert will be shown after the splash | F68: NO | H68: Fail [Medium] | I68: Fail [Medium] | K68: App remains in white screen. App does not launch | L68: Fail [Medium] | M68: https://www.notion.so/storytiling/iOS-Launch-App-does-not-load-to-Home-Screen-in-offline-mode-for-logged-in-user-It-remains-in-laun-af6de25e1a4a42a3af533e55cea34fd8 | O68: Fail [Medium] | R68: App remains in white screen. App does not launch | S68: Fail [Medium] | T68: https://www.notion.so/storytiling/iOS-Launch-App-does-not-load-to-Home-Screen-in-offline-mode-for-logged-in-user-It-remains-in-laun-af6de25e1a4a42a3af533e55cea34fd8 | V68: Fail [Medium] | Y68: App remains in white screen. App does not launch | Z68: Fail [Medium] | AA68: https://www.notion.so/storytiling/iOS-Launch-App-does-not-load-to-Home-Screen-in-offline-mode-for-logged-in-user-It-remains-in-laun-af6de25e1a4a42a3af533e55cea34fd8 | AC68: Fail [Medium] | AF68: App remains in white screen. App does not launch | AG68: Fail [Medium] | AH68: https://www.notion.so/storytiling/iOS-Launch-App-does-not-load-to-Home-Screen-in-offline-mode-for-logged-in-user-It-remains-in-laun-af6de25e1a4a42a3af533e55cea34fd8 | AJ68: Fail [Medium] | AM68: App remains in white screen. App does not launch | AN68: Fail [Medium] | AO68: https://www.notion.so/storytiling/iOS-Launch-App-does-not-load-to-Home-Screen-in-offline-mode-for-logged-in-user-It-remains-in-laun-af6de25e1a4a42a3af533e55cea34fd8 | AQ68: Fail [Medium] | AR68: Fail [Medium] | AT68: App remains in white screen. App does not launch | AU68: Fail [Medium] | AV68: https://www.notion.so/storytiling/iOS-Launch-App-does-not-load-to-Home-Screen-in-offline-mode-for-logged-in-user-It-remains-in-laun-af6de25e1a4a42a3af533e55cea34fd8 | AX68: Pass | BB68: Pass
A69: 47 | C69: Verify the first launch in online mode | D69: 1. Install the build from TestFlight 2. Let the internet be ON 3. New user first time launch the app [Fresh launch] 4. Allow / Don't Allow the notification permission | E69: StoryTiling app will launch and user will be taken to create account / Sign in screen without any issue Note: Notification permission alert will be shown after the splash | F69: YES | H69: Pass | I69: Pass | L69: Pass | O69: Pass | S69: Pass | V69: Pass | Z69: Pass | AC69: Pass | AG69: Pass | AJ69: Pass | AN69: Pass | AQ69: Pass | AR69: Pass | AU69: Pass | AX69: Pass | BB69: Pass
A70: 48 | C70: Verify the Second launch in offline mode for non logged in user | D70: 1. Install the build from TestFlight 2. New user first time launch the app [Fresh launch] 3. Allow / Don't Allow the notification permission 4. Put the app to background and force quit the app 5. Turn off the internet 6. Launch the app for second time | E70: StoryTiling app will launch and user will be taken to create account / Sign in screen without any issue. | F70: NO | H70: Fail [Medium] | I70: Fail [Medium] | K70: App remains in white screen. App does not launch | L70: Fail [Medium] | M70: https://www.notion.so/storytiling/iOS-Launch-App-does-not-load-to-Home-Screen-in-offline-mode-for-logged-in-user-It-remains-in-laun-af6de25e1a4a42a3af533e55cea34fd8 | O70: Fail [Medium] | R70: App remains in white screen. App does not launch | S70: Fail [Medium] | T70: https://www.notion.so/storytiling/iOS-Launch-App-does-not-load-to-Home-Screen-in-offline-mode-for-logged-in-user-It-remains-in-laun-af6de25e1a4a42a3af533e55cea34fd8 | V70: Fail [Medium] | Y70: App remains in white screen. App does not launch | Z70: Fail [Medium] | AA70: https://www.notion.so/storytiling/iOS-Launch-App-does-not-load-to-Home-Screen-in-offline-mode-for-logged-in-user-It-remains-in-laun-af6de25e1a4a42a3af533e55cea34fd8 | AC70: Fail [Medium] | AF70: App remains in white screen. App does not launch | AG70: Fail [Medium] | AH70: https://www.notion.so/storytiling/iOS-Launch-App-does-not-load-to-Home-Screen-in-offline-mode-for-logged-in-user-It-remains-in-laun-af6de25e1a4a42a3af533e55cea34fd8 | AJ70: Fail [Medium] | AM70: App remains in white screen. App does not launch | AN70: Fail [Medium] | AO70: https://www.notion.so/storytiling/iOS-Launch-App-does-not-load-to-Home-Screen-in-offline-mode-for-logged-in-user-It-remains-in-laun-af6de25e1a4a42a3af533e55cea34fd8 | AQ70: Fail [Medium] | AR70: Fail [Medium] | AT70: App remains in white screen. App does not launch | AU70: Fail [Medium] | AV70: https://www.notion.so/storytiling/iOS-Launch-App-does-not-load-to-Home-Screen-in-offline-mode-for-logged-in-user-It-remains-in-laun-af6de25e1a4a42a3af533e55cea34fd8 | AX70: Pass | BB70: Pass
A71: 49 | C71: Verify the Second launch in online mode for non logged in user | D71: 1. Install the build from TestFlight 2. Let the internet be ON 3. New user first time launch the app [Fresh launch] 4. Allow / Don't Allow the notification permission 5. Put the app to background and force quit the app 6. Launch the app for second time | E71: StoryTiling app will launch and user will be taken to create account / Sign in screen without any issue | F71: YES | H71: Pass | I71: Pass | L71: Pass | O71: Pass | S71: Pass | V71: Pass | Z71: Pass | AC71: Pass | AG71: Pass | AJ71: Pass | AN71: Pass | AQ71: Pass | AR71: Pass | AU71: Pass | AX71: Pass | BB71: Pass
A72: 50 | C72: Verify the Second launch in offline mode for logged in user | D72: 1. Install the build from TestFlight 2. New user first time launch the app [Fresh launch] 3. Allow / Don't Allow the notification permission 4. Login to app in any login type 6. Observe now user is in Home screen 7. Put the app to background 8. Force quit the app 9. Turn off the internet 10. Launch the app | E72: StoryTiling app will launch and user will be taken to Home screen without any issue. 1. Home screen content will be shown with "No internet connection" toast message 2. Should show all the data which are seen before by the user . [i.e cache the already visited or downloaded content] 3. If not content is cached, then display "No internet connection" message in the screen with Retry icon | F72: NO | H72: Fail [Medium] | I72: Fail [Medium] | K72: App remains in white screen. App does not launch | L72: Fail [Medium] | M72: https://www.notion.so/storytiling/iOS-Launch-App-does-not-load-to-Home-Screen-in-offline-mode-for-logged-in-user-It-remains-in-laun-af6de25e1a4a42a3af533e55cea34fd8 | O72: Fail [Medium] | R72: App remains in white screen. App does not launch | S72: Fail [Medium] | T72: https://www.notion.so/storytiling/iOS-Launch-App-does-not-load-to-Home-Screen-in-offline-mode-for-logged-in-user-It-remains-in-laun-af6de25e1a4a42a3af533e55cea34fd8 | V72: Fail [Medium] | Y72: App remains in white screen. App does not launch | Z72: Fail [Medium] | AA72: https://www.notion.so/storytiling/iOS-Launch-App-does-not-load-to-Home-Screen-in-offline-mode-for-logged-in-user-It-remains-in-laun-af6de25e1a4a42a3af533e55cea34fd8 | AC72: Fail [Medium] | AF72: App remains in white screen. App does not launch | AG72: Fail [Medium] | AH72: https://www.notion.so/storytiling/iOS-Launch-App-does-not-load-to-Home-Screen-in-offline-mode-for-logged-in-user-It-remains-in-laun-af6de25e1a4a42a3af533e55cea34fd8 | AJ72: Fail [Medium] | AM72: App remains in white screen. App does not launch | AN72: Fail [Medium] | AO72: https://www.notion.so/storytiling/iOS-Launch-App-does-not-load-to-Home-Screen-in-offline-mode-for-logged-in-user-It-remains-in-laun-af6de25e1a4a42a3af533e55cea34fd8 | AQ72: Fail [Medium] | AR72: Fail [Medium] | AT72: App remains in white screen. App does not launch | AU72: Fail [Medium] | AV72: https://www.notion.so/storytiling/iOS-Launch-App-does-not-load-to-Home-Screen-in-offline-mode-for-logged-in-user-It-remains-in-laun-af6de25e1a4a42a3af533e55cea34fd8 | AX72: Fail [Medium] | BA72: App does not come to Home screen. It remains in luanch video page for undefinate time, "There's magic in sharing your story". | BB72: Fail [Medium] | BC72: ST-07
A73: 51 | C73: Verify the Second launch in online mode for logged in user | D73: 1. Install the build from TestFlight 2. New user first time launch the app [Fresh launch] 3. Allow / Don't Allow the notification permission 4. Login to app in any login type 6. Observe now user is in Home screen 7. Put the app to background 8. Force quit the app 9. Launch the app | E73: StoryTiling app will launch and user will be taken to Home screen without any issue. | F73: YES | H73: Pass | I73: Pass | L73: Pass | O73: Pass | S73: Pass | V73: Pass | Z73: Pass | AC73: Pass | AG73: Pass | AJ73: Pass | AN73: Pass | AQ73: Pass | AR73: Pass | AU73: Pass | AX73: Pass | BB73: Pass
A74: 52 | C74: Verify the launch time to load Home screen on first time login | D74: 1. Install the build from TestFlight 2. New user first time launch the app [Fresh launch] 3. Allow / Don't Allow the notification permission 4. Login to app in any login type 6. Observe now user is in Home screen 7. Track the time taken to load home screen from login loading | E74: The ideal loading time for a mobile app is about two seconds. However, according to a study by Akamai research, for every additional second that the app consumes, the conversion rate declines by 7% | F74: NO | H74: Fail [Medium] | I74: Fail [Medium] | K74: Now app loading time is about 9 to 13 sec | L74: Fail [Medium] | M74: ST-06 https://www.notion.so/storytiling/iOS-Launch-App-loading-time-is-more-than-the-ideal-value-It-is-now-9-to-13-sec-1d2c063d5ea04725bd4d7790c97adf0e | O74: Fail [Medium] | R74: Now app loading time is about 9 to 13 sec | S74: Fail [Medium] | T74: ST-06 https://www.notion.so/storytiling/iOS-Launch-App-loading-time-is-more-than-the-ideal-value-It-is-now-9-to-13-sec-1d2c063d5ea04725bd4d7790c97adf0e | V74: Fail [Medium] | Y74: Now app loading time is about 9 to 13 sec | Z74: Fail [Medium] | AA74: ST-06 https://www.notion.so/storytiling/iOS-Launch-App-loading-time-is-more-than-the-ideal-value-It-is-now-9-to-13-sec-1d2c063d5ea04725bd4d7790c97adf0e | AC74: Fail [Medium] | AF74: Now app loading time is about 9 to 13 sec | AG74: Fail [Medium] | AH74: ST-06 https://www.notion.so/storytiling/iOS-Launch-App-loading-time-is-more-than-the-ideal-value-It-is-now-9-to-13-sec-1d2c063d5ea04725bd4d7790c97adf0e | AJ74: Fail [Medium] | AM74: Now app loading time is about 9 to 13 sec | AN74: Fail [Medium] | AO74: ST-06 https://www.notion.so/storytiling/iOS-Launch-App-loading-time-is-more-than-the-ideal-value-It-is-now-9-to-13-sec-1d2c063d5ea04725bd4d7790c97adf0e | AQ74: Fail [Medium] | AR74: Fail [Medium] | AT74: Now app loading time is about 9 to 13 sec | AU74: Fail [Medium] | AV74: ST-06 https://www.notion.so/storytiling/iOS-Launch-App-loading-time-is-more-than-the-ideal-value-It-is-now-9-to-13-sec-1d2c063d5ea04725bd4d7790c97adf0e | AX74: Fail [Medium] | BA74: Now app loading time is about 9 to 13 sec | BB74: Fail [Medium] | BC74: ST-06
A75: 53 | C75: Verify the launch time to load Home screen on second launch for logged in user | D75: 1. Install the build from TestFlight 2. New user first time launch the app [Fresh launch] 3. Allow / Don't Allow the notification permission 4. Login to app in any login type 6. Observe now user is in Home screen 7. Put the app to background 8. Force quit the app 9. Launch the app 10. Track the time taken to load home screen from launch | E75: The ideal loading time for a mobile app is about two seconds. However, according to a study by Akamai research, for every additional second that the app consumes, the conversion rate declines by 7% | F75: NO | H75: Fail [Medium] | I75: Fail [Medium] | K75: Now app loading time is about 9 to 13 sec | L75: Fail [Medium] | M75: ST-06 https://www.notion.so/storytiling/iOS-Launch-App-loading-time-is-more-than-the-ideal-value-It-is-now-9-to-13-sec-1d2c063d5ea04725bd4d7790c97adf0e | O75: Fail [Medium] | R75: Now app loading time is about 9 to 13 sec | S75: Fail [Medium] | T75: ST-06 https://www.notion.so/storytiling/iOS-Launch-App-loading-time-is-more-than-the-ideal-value-It-is-now-9-to-13-sec-1d2c063d5ea04725bd4d7790c97adf0e | V75: Fail [Medium] | Y75: Now app loading time is about 9 to 13 sec | Z75: Fail [Medium] | AA75: ST-06 https://www.notion.so/storytiling/iOS-Launch-App-loading-time-is-more-than-the-ideal-value-It-is-now-9-to-13-sec-1d2c063d5ea04725bd4d7790c97adf0e | AC75: Fail [Medium] | AF75: Now app loading time is about 9 to 13 sec | AG75: Fail [Medium] | AH75: ST-06 https://www.notion.so/storytiling/iOS-Launch-App-loading-time-is-more-than-the-ideal-value-It-is-now-9-to-13-sec-1d2c063d5ea04725bd4d7790c97adf0e | AJ75: Fail [Medium] | AM75: Now app loading time is about 9 to 13 sec | AN75: Fail [Medium] | AO75: ST-06 https://www.notion.so/storytiling/iOS-Launch-App-loading-time-is-more-than-the-ideal-value-It-is-now-9-to-13-sec-1d2c063d5ea04725bd4d7790c97adf0e | AQ75: Fail [Medium] | AR75: Fail [Medium] | AT75: Now app loading time is about 9 to 13 sec | AU75: Fail [Medium] | AV75: ST-06 https://www.notion.so/storytiling/iOS-Launch-App-loading-time-is-more-than-the-ideal-value-It-is-now-9-to-13-sec-1d2c063d5ea04725bd4d7790c97adf0e | AX75: Fail [Medium] | BA75: Now app loading time is about 9 to 13 sec | BB75: Fail [Medium] | BC75: ST-06 https://www.notion.so/storytiling/iOS-Launch-App-loading-time-is-more-than-the-ideal-value-It-is-now-9-to-13-sec-1d2c063d5ea04725bd4d7790c97adf0e
A76: 54 | B76: Login / Sign In | C76: Verify Email Login | D76: 1. Launch app 2. Click on I have an account button 3. Enter valid registered email id 4. Enter valid registered password 5. Click on Sign in button | E76: Login should be successful and user should be taken to Home screen with users data | F76: YES | H76: Pass | I76: Pass | L76: Pass | O76: Pass | S76: Pass | V76: Pass | Z76: Pass | AC76: Pass | AG76: Pass | AJ76: Pass | AN76: Pass | AQ76: Pass | AR76: Pass | AU76: Pass | AX76: Pass | BB76: Pass
A77: 55 | C77: Verify Email Login | D77: 1. Launch app 2. Click on I have an account button 3. Enter non registered email id 4. Enter valid password format 5. Click on Sign in button | E77: Error needs to be displayed, telling there is no user registered with this account | F77: YES | H77: Pass | I77: Pass | L77: Pass | O77: Pass | S77: Pass | V77: Pass | Z77: Pass | AC77: Pass | AG77: Pass | AJ77: Pass | AN77: Pass | AQ77: Pass | AR77: Pass | AU77: Pass | AX77: Pass | BB77: Pass
A78: 56 | C78: Verify Email Login | D78: 1. Launch app 2. Click on I have an account button 3. Enter invalid email id format 4. Enter valid password format 5. Click on Sign in button | E78: Put Error message "Email address is badly formated" | F78: YES | H78: Pass | I78: Pass | L78: Pass | O78: Pass | S78: Pass | V78: Pass | Z78: Pass | AC78: Pass | AG78: Pass | AJ78: Pass | AN78: Pass | AQ78: Pass | AR78: Pass | AU78: Pass | AX78: Pass | BB78: Pass
A79: 57 | C79: Verify Email Login | D79: 1. Launch app 2. Click on I have an account button 3. Enter valid regsitered email id format 4. Enter invalid password format 5. Click on Sign in button | E79: Put Error message "Password is invalid or user does not have password" | F79: YES | H79: Pass | I79: Pass | L79: Pass | O79: Pass | S79: Pass | V79: Pass | Z79: Pass | AC79: Pass | AG79: Pass | AJ79: Pass | AN79: Pass | AQ79: Pass | AR79: Pass | AU79: Pass | AX79: Pass | BB79: Pass
A80: 58 | C80: Verify Email Login in offline mode | D80: 1. Launch app 2. Click on I have an account button 3. Enter valid registered email id 4. Enter valid registered password 5. Disconnect network 6. Click on Sign in button | E80: Put Error message "Network error (such as timeout, interupted connection or unreachable host) has occured" | F80: NO | H80: Pass | I80: Pass | L80: Pass | O80: Pass | S80: Pass | V80: Pass | Z80: Pass | AC80: Pass | AG80: Pass | AJ80: Pass | AN80: Pass | AQ80: Pass | AR80: Pass | AU80: Pass | AX80: Pass | BB80: Pass
A81: 59 | C81: Verify Gmail Login in offline mode | D81: 1. Launch app 2. Click on I have an account button 3. Disconnect network 4. Click on Google Sign in button | E81: Put Error message "Network error (such as timeout, interupted connection or unreachable host) has occured" | F81: NO | H81: Pass | I81: Pass | L81: Pass | O81: Pass | S81: Pass | V81: Pass | Z81: Pass | AC81: Pass | AG81: Pass | AJ81: Pass | AN81: Pass | AQ81: Fail [Low] | AR81: Fail [Low] | AT81: Error message needs to be corrected | AU81: Fail [Low] | AV81: ST-13 https://www.notion.so/storytiling/iOS-Create-Profile-Error-message-needs-to-be-corrected-for-creating-profile-in-offline-mode-b9b59982a92f432a9186dd609f19f5a3 | AX81: Fail [Low] | BB81: Fail [Low] | BC81: ST-13
A82: 60 | C82: Verify Facebook Login in offline mode | D82: 1. Launch app 2. Click on I have an account button 3. Disconnect network 4. Click on Facebook Sign in button | E82: Put Error message "Network error (such as timeout, interupted connection or unreachable host) has occured" | F82: NO | H82: Pass | I82: Pass | L82: Pass | O82: Pass | S82: Pass | V82: Pass | Z82: Pass | AC82: Pass | AG82: Pass | AJ82: Pass | AN82: Pass | AQ82: Fail [Low] | AR82: Fail [Low] | AT82: Error message needs to be corrected | AU82: Fail [Low] | AV82: ST-13 https://www.notion.so/storytiling/iOS-Create-Profile-Error-message-needs-to-be-corrected-for-creating-profile-in-offline-mode-b9b59982a92f432a9186dd609f19f5a3 | AX82: Fail [Low] | BB82: Fail [Low] | BC82: ST-13
A83: 61 | C83: Verify Gmail Login | D83: 1. Launch app 2. Click on I have an account button 3. Click on Sign in with google button 4. Select the gmail id which is already registered | E83: Login should be successful and user should be taken to Home screen with users data | F83: YES | H83: Pass | I83: Pass | L83: Pass | O83: Pass | S83: Pass | V83: Pass | Z83: Pass | AC83: Pass | AG83: Pass | AJ83: Pass | AN83: Pass | AQ83: Pass | AR83: Pass | AU83: Pass | AX83: Pass | BB83: Pass
A84: 62 | C84: Verify Facebook Login | D84: 1. Launch app 2. Click on I have an account button 3. Click on Sign in with Facebook button | E84: Login should be successful and user should be taken to Home screen with users data | F84: YES | H84: NT | I84: NT | L84: Pass | O84: NT | S84: Pass | V84: Pass | Z84: Pass | AC84: Pass | AG84: Pass | AJ84: Pass | AN84: Pass | AQ84: Pass | AR84: Pass | AU84: Pass | AX84: Pass | BB84: Pass
A85: 63 | B85: Home Screen | C85: Verify Home scren design elements | D85: 1. First time user visits Home screen after Sign up | E85: Home screen will have below attributes, 1. Hello <First Name> 2. Tell any story button 3. Add a family member button 4. Send a question button 5. Interview a family member button 6. Tell My story topis (In horizontal scroll) | F85: YES | H85: Pass | I85: Pass | L85: Pass | O85: Pass | S85: Pass | V85: Pass | Z85: Pass | AC85: Pass | AG85: Pass | AJ85: Pass | AN85: Pass | AQ85: Pass | AR85: Pass | AU85: Pass | AX85: Fail [High] | BA85: First name is not displaying in Home Screen and profile screen after Sign up | BB85: Fail [High] | BC85: ST-42
A86: 64 | C86: Verify Home scren design elements | D86: 1. First time user visits Home screen after Sign up 2. Click on "Tell any story button" 3. Record a video and save 4. Check home screen | E86: Below changes should happen to Home screen, 1. Tell any story button will be replaced with "Tell any story" 2. Recent Stories section will be displayed [Horizontal scroll] | F86: YES | H86: Pass | I86: Pass | L86: Pass | O86: Pass | S86: Pass | V86: Pass | Z86: Pass | AC86: Pass | AG86: Pass | AJ86: Pass | AN86: Pass | AQ86: Pass | AR86: Pass | AU86: Pass | AX86: Pass | BB86: Pass
A87: 65 | C87: Check navigation to Tell any story page | D87: Click on Tell any story button | E87: Video record screen will be opened, Note: On clicking Close button / hitting device back button should take user back to Home screen | F87: YES | H87: Pass | I87: Pass | L87: Pass | O87: Pass | S87: Pass | V87: Pass | Z87: Pass | AC87: Pass | AG87: Pass | AJ87: Pass | AN87: Pass | AQ87: Pass | AR87: Pass | AU87: Pass | AX87: Pass | BB87: Pass
A88: 66 | C88: Check navigation to Add a family member page | D88: Click on Add a family member button | E88: Add new family member page is displayed. Note: On clicking back button / hitting device back button should take user back to Home screen | F88: YES | H88: Pass | I88: Pass | L88: Pass | O88: Pass | S88: Pass | V88: Pass | Z88: Pass | AC88: Pass | AG88: Pass | AJ88: Pass | AN88: Pass | AQ88: Pass | AR88: Pass | AU88: Pass | AX88: Pass | BB88: Pass
A89: 67 | C89: Check navigation to Send a question page | D89: Click on Send a question button | E89: 1. Invite a family member pop up is displayed if there is no member joined 2. Select a family member page will be opened. Note: On clicking back button / hitting device back button should take user back to Home screen | F89: YES | H89: Pass | I89: Pass | L89: Pass | O89: Pass | S89: Pass | V89: Pass | Z89: Pass | AC89: Pass | AG89: Pass | AJ89: Pass | AN89: Pass | AQ89: Pass | AR89: Pass | AU89: Pass | AX89: Pass | BB89: Pass
A90: 68 | C90: Check navigation to Interview a family member page | D90: Click on Interview a family member button | E90: 1. Invite a family member pop up is displayed if there is no member joined 2. Select a family member page will be opened. Note: On clicking back button / hitting device back button should take user back to Home screen | F90: YES | H90: Pass | I90: Pass | L90: Pass | O90: Pass | S90: Pass | V90: Pass | Z90: Pass | AC90: Pass | AG90: Pass | AJ90: Pass | AN90: Pass | AQ90: Pass | AR90: Pass | AU90: Pass | AX90: Pass | BB90: Pass
A91: 69 | C91: Check navigation to Tell My Story page | D91: Select any topic from "Tell My Story" section and click on "Listen to First Question" button frpm the pop up | E91: Series of questions page will be opened to Answer them. Note: On clicking back button / hitting device back button should take user back to Home screen | F91: YES | H91: Pass | I91: Pass | L91: Pass | O91: Pass | S91: Pass | V91: Pass | Z91: Pass | AC91: Pass | AG91: Pass | AJ91: Pass | AN91: Pass | AQ91: Pass | AR91: Pass | AU91: Pass | AX91: Pass | BB91: Pass
A92: 70 | C92: Check navigation to Recent Stories page | D92: Click on any item from Recent Stories | E92: Video recorded screen will be opened. Note: On clicking Close button / hitting device back button should take user back to Home screen | F92: YES | H92: Pass | I92: Pass | L92: Pass | O92: Pass | S92: Pass | V92: Pass | Z92: Pass | AC92: Pass | AG92: Pass | AJ92: Pass | AN92: Pass | AQ92: Pass | AR92: Pass | AU92: Pass | AX92: Pass | BB92: Pass
A93: 71 | C93: Check network check on all home screen buttons | D93: 1. Disconnect network and click on buttons | E93: Network cases are not handled on button clicks of Home screen | F93: NO | H93: Fail [Low] | I93: Fail [Low] | L93: Fail [Low] | O93: Fail [Low] | S93: Fail [Low] | V93: Fail [Low] | Z93: Fail [Low] | AC93: Fail [Low] | AG93: Fail [Low] | AJ93: Fail [Low] | AN93: Fail [Low] | AQ93: Fail [Low] | AR93: Fail [Low] | AU93: Fail [Low] | AX93: Fail [Low] | BB93: Fail [Low]
A94: 72 | B94: Tik Tok Flow | C94: Check Tik Tok flow when user is Signed up as soon as app is installed | D94: 1. Install app 2. Sign up using email 3. Create Profile 4. Finish all tutorial | E94: Video Record screen will be opened with permission pop up | F94: YES | H94: Pass | I94: Pass | L94: Pass | O94: Pass | S94: Pass | V94: Pass | Z94: Pass | AJ94: Fail [Critical] | AM94: Video record screen is not opened, instead user landed in Home screen | AN94: Fail [Critical] | AQ94: Pass | AR94: Pass | AU94: Pass | AX94: Pass | BB94: Pass
A95: 73 | C95: Check Tik Tok flow when user is Signed up as soon as app is installed | D95: 1. Install app 2. Sign up using email 3. Create Profile 4. Finish all tutorial 5. Click on Deny button on the permission pop up | E95: On clicking Deny, it should ask for second permission. Note: On denying anyone permission, user will be taken to video screen with disabled permission buttons displayed, so that user can navigate to permission page | F95: YES | H95: Fail [High] | I95: Fail [High] | L95: Fail [High] | M95: ST-21 https://www.notion.so/storytiling/Android-Tik-Tok-Flow-When-we-Deny-the-permission-continuous-loader-is-seen-in-video-record-scree-ddb1c599001f4e869f11d3a49371fa62 | O95: Fail [High] | S95: Fail [High] | T95: ST-21 https://www.notion.so/storytiling/Android-Tik-Tok-Flow-When-we-Deny-the-permission-continuous-loader-is-seen-in-video-record-scree-ddb1c599001f4e869f11d3a49371fa62 | V95: Fail [High] | Z95: Fail [High] | AA95: ST-21 https://www.notion.so/storytiling/Android-Tik-Tok-Flow-When-we-Deny-the-permission-continuous-loader-is-seen-in-video-record-scree-ddb1c599001f4e869f11d3a49371fa62 | AC95: Fail [High] | AG95: Fail [High] | AH95: ST-21 https://www.notion.so/storytiling/Android-Tik-Tok-Flow-When-we-Deny-the-permission-continuous-loader-is-seen-in-video-record-scree-ddb1c599001f4e869f11d3a49371fa62 | AJ95: Fail [High] | AN95: Fail [High] | AO95: ST-21 https://www.notion.so/storytiling/Android-Tik-Tok-Flow-When-we-Deny-the-permission-continuous-loader-is-seen-in-video-record-scree-ddb1c599001f4e869f11d3a49371fa62 | AQ95: Fail [High] | AR95: Fail [High] | AU95: Fail [High] | AV95: ST-21 https://www.notion.so/storytiling/Android-Tik-Tok-Flow-When-we-Deny-the-permission-continuous-loader-is-seen-in-video-record-scree-ddb1c599001f4e869f11d3a49371fa62 | AX95: Fail [High] | BB95: Fail [High] | BC95: ST-21
A96: 74 | C96: Check Tik Tok flow when user is Signed up as soon as app is installed | D96: 1. Install app 2. Sign up using email 3. Create Profile 4. Finish all tutorial 5. Accept all permission | E96: Video Record screen will be opened | F96: YES | H96: Pass | I96: Pass | L96: Pass | O96: Pass | S96: Pass | V96: Pass | Z96: Pass | AC96: Pass | AG96: Pass | AJ96: Fail [Critical] | AM96: Video record screen is not opened, instead user landed in Home screen | AN96: Fail [Critical] | AQ96: Pass | AR96: Pass | AU96: Pass | AX96: Fail [Critical] | BB96: Fail [Critical] | BC96: ST-17
A97: 75 | C97: Check Tik Tok flow from Home screen | D97: Click on "Tell any story" button from Home screen | E97: Video Record screen will be opened | F97: YES | H97: Pass | I97: Pass | L97: Pass | O97: Pass | S97: Pass | V97: Pass | Z97: Pass | AC97: Pass | AG97: Pass | AJ97: Pass | AN97: Pass | AQ97: Pass | AR97: Pass | AU97: Pass | AX97: Pass | BB97: Pass
A98: 76 | C98: Record the first story - Tik Tok Flow | D98: 1. Click on "+" button from Home screen 2. Select a question from overlay 3. Record and Stop the recording | E98: This is the first story, show a pop up “Congrats on your first story” with a unique CTA that land people on the Review screen (eg: no option to continue with another question) Note: Subtitle text should be : You’ve recorded your first story! Your story has been saved under All Stories. | F98: YES | H98: Fail [High] | I98: Fail [High] | K98: Congratulations pop up is not displaying for first time, instead it is displaying on second time | L98: Fail [High] | M98: https://www.notion.so/storytiling/e660403b7f1b43da80fd7f6abcbcc35d?v=c24a24f08e4c433c86c76076f5c4af44&p=adc63ed5655240f7ad250fc2fba8ab2e | O98: Fail [High] | R98: Congratulations pop up is not displaying for first time, instead it is displaying on second time | S98: Fail [High] | T98: https://www.notion.so/storytiling/e660403b7f1b43da80fd7f6abcbcc35d?v=c24a24f08e4c433c86c76076f5c4af44&p=adc63ed5655240f7ad250fc2fba8ab2e | V98: Pass | Z98: Pass | AC98: Pass | AG98: Pass | AJ98: Fail [Critical] | AM98: Questions to overlay does not appear, instead white layer is seen | AN98: Fail [Critical] | AQ98: Fail [Medium] | AR98: Fail [Medium] | AU98: Fail [Medium] | AV98: ST-03 https://www.notion.so/storytiling/iOS-Tik-Tok-Flow-Subtitle-text-is-not-as-per-requirement-Replace-text-answer-with-story-Refer-a-f619ad8dc09b4f9b827ca6b96678b872 | AX98: Fail [High] | BB98: Fail [High] | BC98: ST-03
A99: 77 | C99: Record the second story - Tik Tok Flow | D99: 1. Click on "+" button from Home screen 2. Select a question from overlay 3. Record and Stop the recording | E99: Answer Saved! pop up should be displayed with below message Title : Answer Saved Message : "Your answer has been saved under All Stories With Continue and Redo as buttons | F99: YES | H99: Pass | I99: Pass | L99: Pass | O99: Pass | S99: Pass | V99: Pass | Z99: Pass | AC99: Pass | AG99: Pass | AJ99: Fail [Critical] | AM99: Questions to overlay does not appear, instead white layer is seen | AN99: Fail [Critical] | AQ99: Pass | AR99: Pass | AU99: Pass | AX99: Pass | BB99: Pass
A100: 78 | C100: Verify record flow before Questions to Answer Overlay is present | D100: 1. Click on "+ button from Home screen 2. Click on Record button from video player screen before Questions to Answer overlay is present | E100: Record button should be disabled till Questions to Answer Overlay displays | F100: YES | H100: Pass | I100: Pass | L100: Pass | O100: Pass | S100: Pass | V100: Pass | Z100: Pass | AC100: Pass | AG100: Pass | AJ100: Pass | AN100: Pass | AQ100: Pass | AR100: Pass | AU100: Pass | AX100: Pass | BB100: Pass
...

Sheet ReadMe
A2: Date | B2: Version | C2: Author | E2: Reviewed By | F2: Approved By | G2: Brief Description
A3: 44688 | B3: 0.01 | C3: Sudeep VR-QA Lead | G3: Initial draft.
A6: Test Suite Plan/ Report
A7: 1 | B7: The System Test verifies if the product performs its intended functions based on overall Software Requirements Specifications (SRS). This stage is intended to find defects that can be exposed only by testing the entire product. Attributes such as external interfaces, performance, security, configuration sensitivity, recovery, and reliability are validated during this phase. A series of different tests (refer System Test Plan), each test having different purpose, are done such that together they verify that all the software products have been properly integrated and that the product performs all its functions and satisfies all its non-functional requirements. Before System Testing begins, it must be planned by PQC-PO in the Analysis and Design phase.
A8: 2 | B8: The entry criteria are that the SRS document and the HLD document are reviewed and authorized. Note that the System Test planning can occur before coding is completed, or in parallel with coding. The input for this phase are SRS, HLD, PMP and PCMP, and the outputs are the Test Suite Plan and the test results. The exit criterion is that the Test Suite Plan is reviewed and approved by Customer. The main activities are as follows:
B9: Determine the environmental needs
B10: Determine System Test procedure
B11: Identify features to be tested
B12: Identify hardware/ software/ communication interfaces
B13: Identify major business processes performed by the system
B14: Identify significant features not to be tested, and reason for their omission
B15: Identify critical tests
B16: Develop test cases
B17: Identify each test case and procedure to execute it
B18: Identify input and output data requirements
B19: Identify expected results
B20: Note: The test case should contain the expected results
A21: 3 | B21: The PQCL must furnish the SRS Requirement ID in the column provided in the Test Suite Plan. The HLD Requirement ID also needs to be mentioned in the given column if the design is completed.
A22: 4 | B22: The PQCL will prepare this Test Suite Plan. The test prescribed by the plan should be functional rather than structural. System Test Plan must specify the results expected from the test case. It must also define the set of regression tests that will be used to ensure that the changes made to product software have no unintended side effects.
A23: 5 | B23: The System Test will run for all the builds generated, and the same Test Suite Plan is updated with new test cases, and if executing the new test cases are needed, they are added to the Test Suite Plan by PQCL/ PQC-PO for all the incremental builds. The updated Test Suite Plan is again reviewed by Customer. The test team should consider the updated test cases for each incremental builds (prior to Pre-Alpha) during testing and for milestone builds, should consider all the test cases of Test Suite Plan, or as suggested by PQCL
A24: 6 | B24: If the build passes the Smoke Test (SmT), then PQC-PO will proceed for System Testing, or else, will return the build back to the Dev-PO and inform the PM/ PL and PQCL by e-mail.
A25: 7 | B25: Acronyms and Color Codes that are to be used in this Test Suite Plan are:
B26: Pass | C26: Passed test case
B27: Fail | C27: Failed test case
B28: NA | C28: Not Applicable test case
B29: NT | C29: Not tested
A30: 8 | B30: The life cycle for a defect should compulsorily follow the sequence: New-->Open-->Fixed-->Closed. When a defect is logged into the Defect tracker the status is 'New'. Then the PM/ PL/ PC shall 'Open' the defect and assign the defects he/ she feels are to be fixed, to the developer who will change the status to 'Fixed' when the defect is fixed. The QC then verifies the defect and changes the status to 'Close'. In case the defect is not satisfactorily fixed, the QC may change the status to 'Re-opened'. When the status of a defect is changed to ' Not a Defect', 'Deferred' or 'Invalid', appropriate comments need to be provided by PM or PL.

Sheet Lookup
A1: Release | B1: Device List | C1: OS | D1: Language | E1: IO_Connection | F1: System H/ W | G1: Firmware | H1: Application | I1: Status | J1: Resource
A2: Build_01 [v1.4.33(202)] | B2: iPhone 7 | C2: 15.4 | D2: English | H2: StoryTiling | I2: Pass | J2: Sudeep
A3: Build_02 v1.4.35(204) | B3: iPhone 6S | C3: 12.1.4 | I3: Fail [Critical]
I4: Fail [High]
I5: Fail [Medium]
I6: Fail [Low]
I7: NT
I8: NA
